BEGIN:VCALENDAR
VERSION:2.0
PRODID:-//New Village Arts - ECPv6.15.20//NONSGML v1.0//EN
CALSCALE:GREGORIAN
METHOD:PUBLISH
X-WR-CALNAME:New Village Arts
X-ORIGINAL-URL:https://newvillagearts.org
X-WR-CALDESC:Events for New Village Arts
REFRESH-INTERVAL;VALUE=DURATION:PT1H
X-Robots-Tag:noindex
X-PUBLISHED-TTL:PT1H
BEGIN:VTIMEZONE
TZID:America/Los_Angeles
BEGIN:DAYLIGHT
TZOFFSETFROM:-0800
TZOFFSETTO:-0700
TZNAME:PDT
DTSTART:20250309T100000
END:DAYLIGHT
BEGIN:STANDARD
TZOFFSETFROM:-0700
TZOFFSETTO:-0800
TZNAME:PST
DTSTART:20251102T090000
END:STANDARD
BEGIN:DAYLIGHT
TZOFFSETFROM:-0800
TZOFFSETTO:-0700
TZNAME:PDT
DTSTART:20260308T100000
END:DAYLIGHT
BEGIN:STANDARD
TZOFFSETFROM:-0700
TZOFFSETTO:-0800
TZNAME:PST
DTSTART:20261101T090000
END:STANDARD
BEGIN:DAYLIGHT
TZOFFSETFROM:-0800
TZOFFSETTO:-0700
TZNAME:PDT
DTSTART:20270314T100000
END:DAYLIGHT
BEGIN:STANDARD
TZOFFSETFROM:-0700
TZOFFSETTO:-0800
TZNAME:PST
DTSTART:20271107T090000
END:STANDARD
END:VTIMEZONE
BEGIN:VEVENT
DTSTART;TZID=America/Los_Angeles:20260607T180000
DTEND;TZID=America/Los_Angeles:20260607T180000
DTSTAMP:20260422T031643
CREATED:20260416T192757Z
LAST-MODIFIED:20260417T220738Z
UID:10005536-1780855200-1780855200@newvillagearts.org
SUMMARY:Suburban Skies - A Beatles Tribute
DESCRIPTION:
URL:https://newvillagearts.org/event/suburban-skies-a-beatles-tribute/2026-06-07/1/
LOCATION:Ray Charles Stage in the Conrad Prebys Theatre\, 2787 State Street\, Carlsbad\, 92008\, United States
CATEGORIES:Music
ATTACH;FMTTYPE=image/png:https://newvillagearts.org/wp-content/uploads/2026/04/Suburban-Skies-1.png
ORGANIZER;CN="New Village Arts":MAILTO:info@newvillagerts.org
END:VEVENT
BEGIN:VEVENT
DTSTART;TZID=America/Los_Angeles:20260607T200000
DTEND;TZID=America/Los_Angeles:20260607T200000
DTSTAMP:20260422T031643
CREATED:20260416T192757Z
LAST-MODIFIED:20260417T220738Z
UID:10005537-1780862400-1780862400@newvillagearts.org
SUMMARY:Suburban Skies - A Beatles Tribute
DESCRIPTION:
URL:https://newvillagearts.org/event/suburban-skies-a-beatles-tribute/2026-06-07/2/
LOCATION:Ray Charles Stage in the Conrad Prebys Theatre\, 2787 State Street\, Carlsbad\, 92008\, United States
CATEGORIES:Music
ATTACH;FMTTYPE=image/png:https://newvillagearts.org/wp-content/uploads/2026/04/Suburban-Skies-1.png
ORGANIZER;CN="New Village Arts":MAILTO:info@newvillagerts.org
END:VEVENT
END:VCALENDAR