BEGIN:VCALENDAR
VERSION:2.0
PRODID:-//New Village Arts - ECPv6.15.20//NONSGML v1.0//EN
CALSCALE:GREGORIAN
METHOD:PUBLISH
X-ORIGINAL-URL:https://newvillagearts.org
X-WR-CALDESC:Events for New Village Arts
REFRESH-INTERVAL;VALUE=DURATION:PT1H
X-Robots-Tag:noindex
X-PUBLISHED-TTL:PT1H
BEGIN:VTIMEZONE
TZID:America/Los_Angeles
BEGIN:DAYLIGHT
TZOFFSETFROM:-0800
TZOFFSETTO:-0700
TZNAME:PDT
DTSTART:20250309T100000
END:DAYLIGHT
BEGIN:STANDARD
TZOFFSETFROM:-0700
TZOFFSETTO:-0800
TZNAME:PST
DTSTART:20251102T090000
END:STANDARD
BEGIN:DAYLIGHT
TZOFFSETFROM:-0800
TZOFFSETTO:-0700
TZNAME:PDT
DTSTART:20260308T100000
END:DAYLIGHT
BEGIN:STANDARD
TZOFFSETFROM:-0700
TZOFFSETTO:-0800
TZNAME:PST
DTSTART:20261101T090000
END:STANDARD
BEGIN:DAYLIGHT
TZOFFSETFROM:-0800
TZOFFSETTO:-0700
TZNAME:PDT
DTSTART:20270314T100000
END:DAYLIGHT
BEGIN:STANDARD
TZOFFSETFROM:-0700
TZOFFSETTO:-0800
TZNAME:PST
DTSTART:20271107T090000
END:STANDARD
END:VTIMEZONE
BEGIN:VEVENT
DTSTART;TZID=America/Los_Angeles:20260501T190000
DTEND;TZID=America/Los_Angeles:20260501T190000
DTSTAMP:20260424T031607
CREATED:20260325T205318Z
LAST-MODIFIED:20260331T192616Z
UID:10005480-1777662000-1777662000@newvillagearts.org
SUMMARY:RE-Vamp: You Are Your Stories
DESCRIPTION:
URL:https://newvillagearts.org/event/re-vamp-you-are-your-stories/
LOCATION:White Family Next Stage\, 2787 State Street\, Carlsbad\, CA\, 92008\, United States
CATEGORIES:Comedy
ATTACH;FMTTYPE=image/png:https://newvillagearts.org/wp-content/uploads/2025/08/CURRENT-Next-Stage-2025-Graphics-4.png
ORGANIZER;CN="New Village Arts":MAILTO:info@newvillagerts.org
END:VEVENT
BEGIN:VEVENT
DTSTART;TZID=America/Los_Angeles:20260502T193000
DTEND;TZID=America/Los_Angeles:20260502T193000
DTSTAMP:20260424T031607
CREATED:20260317T195315Z
LAST-MODIFIED:20260421T195535Z
UID:10005474-1777750200-1777750200@newvillagearts.org
SUMMARY:Comedy for the Climate
DESCRIPTION:
URL:https://newvillagearts.org/event/comedy-for-the-climate/
LOCATION:White Family Next Stage\, 2787 State Street\, Carlsbad\, CA\, 92008\, United States
CATEGORIES:Comedy
ATTACH;FMTTYPE=image/png:https://newvillagearts.org/wp-content/uploads/2026/03/Comedy-for-the-Climate-Graphics-2.png
ORGANIZER;CN="New Village Arts":MAILTO:info@newvillagerts.org
END:VEVENT
BEGIN:VEVENT
DTSTART;TZID=America/Los_Angeles:20260504T180000
DTEND;TZID=America/Los_Angeles:20260504T200000
DTSTAMP:20260424T031607
CREATED:20260318T225711Z
LAST-MODIFIED:20260318T230842Z
UID:10005477-1777917600-1777924800@newvillagearts.org
SUMMARY:McCann Dance Presents East Coast Swing
DESCRIPTION:
URL:https://newvillagearts.org/event/mccann-dance-social-club-may/
LOCATION:White Family Next Stage\, 2787 State Street\, Carlsbad\, CA\, 92008\, United States
CATEGORIES:dance
ATTACH;FMTTYPE=image/png:https://newvillagearts.org/wp-content/uploads/2025/08/Body-2.png
ORGANIZER;CN="New Village Arts":MAILTO:info@newvillagerts.org
END:VEVENT
BEGIN:VEVENT
DTSTART;TZID=America/Los_Angeles:20260505T200000
DTEND;TZID=America/Los_Angeles:20260505T200000
DTSTAMP:20260424T031607
CREATED:20260420T193959Z
LAST-MODIFIED:20260420T195205Z
UID:10005538-1778011200-1778011200@newvillagearts.org
SUMMARY:Student New Works Series: Let's Talk About It by Chloe Oh
DESCRIPTION:
URL:https://newvillagearts.org/event/student-new-works-series-lets-talk-about-it-by-chloe-oh/
LOCATION:White Family Next Stage\, 2787 State Street\, Carlsbad\, CA\, 92008\, United States
ATTACH;FMTTYPE=image/png:https://newvillagearts.org/wp-content/uploads/2026/04/2-2.png
ORGANIZER;CN="New Village Arts":MAILTO:info@newvillagerts.org
END:VEVENT
BEGIN:VEVENT
DTSTART;TZID=America/Los_Angeles:20260506T183000
DTEND;TZID=America/Los_Angeles:20260506T200000
DTSTAMP:20260424T031607
CREATED:20260130T010558Z
LAST-MODIFIED:20260130T010559Z
UID:10004230-1778092200-1778097600@newvillagearts.org
SUMMARY:Drop-in Improv with Patrick McInnis
DESCRIPTION:
URL:https://newvillagearts.org/event/drop-in-improv-with-patrick-mcinnis-2/2026-05-06/
LOCATION:Sahm Foundation Arts Education Center\, 2787 State St\, Carlsbad\, CA\, 92008\, United States
CATEGORIES:Improv
ATTACH;FMTTYPE=image/png:https://newvillagearts.org/wp-content/uploads/2024/12/Wednesday-Improv-FP-1.png
ORGANIZER;CN="New Village Arts":MAILTO:info@newvillagerts.org
END:VEVENT
BEGIN:VEVENT
DTSTART;TZID=America/Los_Angeles:20260508T200000
DTEND;TZID=America/Los_Angeles:20260508T200000
DTSTAMP:20260424T031607
CREATED:20260407T215914Z
LAST-MODIFIED:20260407T222548Z
UID:10005527-1778270400-1778270400@newvillagearts.org
SUMMARY:Misfitz Drag Showcase and Open Stage
DESCRIPTION:
URL:https://newvillagearts.org/event/misfitz-drag-showcase-and-open-stage-may/
LOCATION:White Family Next Stage\, 2787 State Street\, Carlsbad\, CA\, 92008\, United States
CATEGORIES:Drag Events
ATTACH;FMTTYPE=image/png:https://newvillagearts.org/wp-content/uploads/2026/02/2025-Next-Stage-Graphics-6.png
ORGANIZER;CN="New Village Arts":MAILTO:info@newvillagerts.org
END:VEVENT
BEGIN:VEVENT
DTSTART;TZID=America/Los_Angeles:20260509T180000
DTEND;TZID=America/Los_Angeles:20260509T220000
DTSTAMP:20260424T031607
CREATED:20260131T021953Z
LAST-MODIFIED:20260131T021953Z
UID:10005130-1778349600-1778364000@newvillagearts.org
SUMMARY:25th Anniversary Silver Gala
DESCRIPTION:
URL:https://newvillagearts.org/event/nva-silver-gala/
LOCATION:Scratch Media\, 3254 Grey Hawk Court\, Carlsbad\, 92010\, United States
CATEGORIES:Fundraiser
ATTACH;FMTTYPE=image/png:https://newvillagearts.org/wp-content/uploads/2026/01/Gala-Website-Photo-3.png
ORGANIZER;CN="New Village Arts":MAILTO:info@newvillagerts.org
END:VEVENT
BEGIN:VEVENT
DTSTART;TZID=America/Los_Angeles:20260513T183000
DTEND;TZID=America/Los_Angeles:20260513T200000
DTSTAMP:20260424T031607
CREATED:20250828T014428Z
LAST-MODIFIED:20260316T215136Z
UID:10005471-1778697000-1778702400@newvillagearts.org
SUMMARY:Salsa & Bachata Dance Class
DESCRIPTION:
URL:https://newvillagearts.org/event/salsa-bachata-dance-class/2026-05-13/
LOCATION:White Family Next Stage\, 2787 State Street\, Carlsbad\, CA\, 92008\, United States
CATEGORIES:Club Nights,dance
ATTACH;FMTTYPE=image/png:https://newvillagearts.org/wp-content/uploads/2025/08/SBDP-FP-2.png
ORGANIZER;CN="New Village Arts":MAILTO:info@newvillagerts.org
END:VEVENT
BEGIN:VEVENT
DTSTART;TZID=America/Los_Angeles:20260513T183000
DTEND;TZID=America/Los_Angeles:20260513T200000
DTSTAMP:20260424T031607
CREATED:20260130T010558Z
LAST-MODIFIED:20260130T010559Z
UID:10004231-1778697000-1778702400@newvillagearts.org
SUMMARY:Drop-in Improv with Patrick McInnis
DESCRIPTION:
URL:https://newvillagearts.org/event/drop-in-improv-with-patrick-mcinnis-2/2026-05-13/
LOCATION:Sahm Foundation Arts Education Center\, 2787 State St\, Carlsbad\, CA\, 92008\, United States
CATEGORIES:Improv
ATTACH;FMTTYPE=image/png:https://newvillagearts.org/wp-content/uploads/2024/12/Wednesday-Improv-FP-1.png
ORGANIZER;CN="New Village Arts":MAILTO:info@newvillagerts.org
END:VEVENT
BEGIN:VEVENT
DTSTART;TZID=America/Los_Angeles:20260516T093000
DTEND;TZID=America/Los_Angeles:20260516T093000
DTSTAMP:20260424T031607
CREATED:20260413T025258Z
LAST-MODIFIED:20260415T003050Z
UID:10005534-1778923800-1778923800@newvillagearts.org
SUMMARY:“Musical Stories”  Concert
DESCRIPTION:
URL:https://newvillagearts.org/event/musical-stories-concert/
LOCATION:Ray Charles Stage in the Conrad Prebys Theatre\, 2787 State Street\, Carlsbad\, 92008\, United States
ATTACH;FMTTYPE=image/png:https://newvillagearts.org/wp-content/uploads/2026/04/Musical-Stories-Title-Card-300dpi-scaled.png
ORGANIZER;CN="New Village Arts":MAILTO:info@newvillagerts.org
END:VEVENT
BEGIN:VEVENT
DTSTART;TZID=America/Los_Angeles:20260516T200000
DTEND;TZID=America/Los_Angeles:20260516T200000
DTSTAMP:20260424T031607
CREATED:20260408T204343Z
LAST-MODIFIED:20260415T164402Z
UID:10005530-1778961600-1778961600@newvillagearts.org
SUMMARY:SlaySpeare: A Theatre Kids Drag Show
DESCRIPTION:
URL:https://newvillagearts.org/event/slayspeare-a-theatre-kids-drag-show/
LOCATION:White Family Next Stage\, 2787 State Street\, Carlsbad\, CA\, 92008\, United States
ATTACH;FMTTYPE=image/png:https://newvillagearts.org/wp-content/uploads/2026/04/SlaySpeare-Graphics-1.png
ORGANIZER;CN="New Village Arts":MAILTO:info@newvillagerts.org
END:VEVENT
BEGIN:VEVENT
DTSTART;TZID=America/Los_Angeles:20260520T183000
DTEND;TZID=America/Los_Angeles:20260520T200000
DTSTAMP:20260424T031607
CREATED:20260130T010558Z
LAST-MODIFIED:20260130T010559Z
UID:10004232-1779301800-1779307200@newvillagearts.org
SUMMARY:Drop-in Improv with Patrick McInnis
DESCRIPTION:
URL:https://newvillagearts.org/event/drop-in-improv-with-patrick-mcinnis-2/2026-05-20/
LOCATION:Sahm Foundation Arts Education Center\, 2787 State St\, Carlsbad\, CA\, 92008\, United States
CATEGORIES:Improv
ATTACH;FMTTYPE=image/png:https://newvillagearts.org/wp-content/uploads/2024/12/Wednesday-Improv-FP-1.png
ORGANIZER;CN="New Village Arts":MAILTO:info@newvillagerts.org
END:VEVENT
BEGIN:VEVENT
DTSTART;TZID=America/Los_Angeles:20260520T190000
DTEND;TZID=America/Los_Angeles:20260520T190000
DTSTAMP:20260424T031607
CREATED:20260107T000834Z
LAST-MODIFIED:20260423T195430Z
UID:10005093-1779303600-1779303600@newvillagearts.org
SUMMARY:Cozmic Comedy Presents Night of Comedy
DESCRIPTION:
URL:https://newvillagearts.org/event/cozmic-comedy-may/
LOCATION:White Family Next Stage\, 2787 State Street\, Carlsbad\, CA\, 92008\, United States
CATEGORIES:Comedy
ATTACH;FMTTYPE=image/png:https://newvillagearts.org/wp-content/uploads/2025/08/Cosmic-Comedy-FP.png
ORGANIZER;CN="New Village Arts":MAILTO:info@newvillagerts.org
END:VEVENT
BEGIN:VEVENT
DTSTART;TZID=America/Los_Angeles:20260522T194500
DTEND;TZID=America/Los_Angeles:20260522T194500
DTSTAMP:20260424T031607
CREATED:20260326T212601Z
LAST-MODIFIED:20260326T212602Z
UID:10005081-1779479100-1779479100@newvillagearts.org
SUMMARY:Improv Comedy Show
DESCRIPTION:
URL:https://newvillagearts.org/event/improv-comedy-show-2-2/2026-05-22/
LOCATION:White Family Next Stage\, 2787 State Street\, Carlsbad\, CA\, 92008\, United States
CATEGORIES:Comedy,Improv
ATTACH;FMTTYPE=image/png:https://newvillagearts.org/wp-content/uploads/2025/01/Improv-Comedy-FP-1.png
ORGANIZER;CN="New Village Arts":MAILTO:info@newvillagerts.org
END:VEVENT
BEGIN:VEVENT
DTSTART;TZID=America/Los_Angeles:20260525T190000
DTEND;TZID=America/Los_Angeles:20260525T190000
DTSTAMP:20260424T031607
CREATED:20251211T203933Z
LAST-MODIFIED:20260316T212709Z
UID:10005468-1779735600-1779735600@newvillagearts.org
SUMMARY:Hollywood Stars of Magic • at the Village
DESCRIPTION:
URL:https://newvillagearts.org/event/hollywood-stars-of-magic/2026-05-25/
LOCATION:White Family Next Stage\, 2787 State Street\, Carlsbad\, CA\, 92008\, United States
CATEGORIES:Magic Shows
ATTACH;FMTTYPE=image/png:https://newvillagearts.org/wp-content/uploads/2025/09/HSOM_New.png
ORGANIZER;CN="New Village Arts":MAILTO:info@newvillagerts.org
END:VEVENT
BEGIN:VEVENT
DTSTART;TZID=America/Los_Angeles:20260527T183000
DTEND;TZID=America/Los_Angeles:20260527T200000
DTSTAMP:20260424T031607
CREATED:20260130T010558Z
LAST-MODIFIED:20260130T010559Z
UID:10004233-1779906600-1779912000@newvillagearts.org
SUMMARY:Drop-in Improv with Patrick McInnis
DESCRIPTION:
URL:https://newvillagearts.org/event/drop-in-improv-with-patrick-mcinnis-2/2026-05-27/
LOCATION:Sahm Foundation Arts Education Center\, 2787 State St\, Carlsbad\, CA\, 92008\, United States
CATEGORIES:Improv
ATTACH;FMTTYPE=image/png:https://newvillagearts.org/wp-content/uploads/2024/12/Wednesday-Improv-FP-1.png
ORGANIZER;CN="New Village Arts":MAILTO:info@newvillagerts.org
END:VEVENT
BEGIN:VEVENT
DTSTART;TZID=America/Los_Angeles:20260530T190000
DTEND;TZID=America/Los_Angeles:20260530T190000
DTSTAMP:20260424T031607
CREATED:20260331T210302Z
LAST-MODIFIED:20260415T002932Z
UID:10005522-1780167600-1780167600@newvillagearts.org
SUMMARY:Serving Laughs! A Queer Variety Show
DESCRIPTION:
URL:https://newvillagearts.org/event/serving-laughs-may/
LOCATION:White Family Next Stage\, 2787 State Street\, Carlsbad\, CA\, 92008\, United States
CATEGORIES:Comedy,Drag Events
ATTACH;FMTTYPE=image/png:https://newvillagearts.org/wp-content/uploads/2026/03/Serving-Laughs-FP.png
ORGANIZER;CN="New Village Arts":MAILTO:info@newvillagerts.org
END:VEVENT
END:VCALENDAR