BEGIN:VCALENDAR
VERSION:2.0
PRODID:-//New Village Arts - ECPv6.15.20//NONSGML v1.0//EN
CALSCALE:GREGORIAN
METHOD:PUBLISH
X-ORIGINAL-URL:https://newvillagearts.org
X-WR-CALDESC:Events for New Village Arts
REFRESH-INTERVAL;VALUE=DURATION:PT1H
X-Robots-Tag:noindex
X-PUBLISHED-TTL:PT1H
BEGIN:VTIMEZONE
TZID:America/Los_Angeles
BEGIN:DAYLIGHT
TZOFFSETFROM:-0800
TZOFFSETTO:-0700
TZNAME:PDT
DTSTART:20240310T100000
END:DAYLIGHT
BEGIN:STANDARD
TZOFFSETFROM:-0700
TZOFFSETTO:-0800
TZNAME:PST
DTSTART:20241103T090000
END:STANDARD
BEGIN:DAYLIGHT
TZOFFSETFROM:-0800
TZOFFSETTO:-0700
TZNAME:PDT
DTSTART:20250309T100000
END:DAYLIGHT
BEGIN:STANDARD
TZOFFSETFROM:-0700
TZOFFSETTO:-0800
TZNAME:PST
DTSTART:20251102T090000
END:STANDARD
BEGIN:DAYLIGHT
TZOFFSETFROM:-0800
TZOFFSETTO:-0700
TZNAME:PDT
DTSTART:20260308T100000
END:DAYLIGHT
BEGIN:STANDARD
TZOFFSETFROM:-0700
TZOFFSETTO:-0800
TZNAME:PST
DTSTART:20261101T090000
END:STANDARD
END:VTIMEZONE
BEGIN:VEVENT
DTSTART;TZID=America/Los_Angeles:20250321T193000
DTEND;TZID=America/Los_Angeles:20250321T193000
DTSTAMP:20260424T083317
CREATED:20240703T213323Z
LAST-MODIFIED:20250304T022811Z
UID:10003886-1742585400-1742585400@newvillagearts.org
SUMMARY:Sandra Delgado’s LA HAVANA MADRID
DESCRIPTION:
URL:https://newvillagearts.org/event/la-havana-madrid/2025-03-21/
LOCATION:Ray Charles Stage in the Conrad Prebys Theatre\, 2787 State Street\, Carlsbad\, 92008\, United States
CATEGORIES:Theatre
ATTACH;FMTTYPE=image/png:https://newvillagearts.org/wp-content/uploads/2024/07/LaHavana-show-title-clr.png
ORGANIZER;CN="New Village Arts":MAILTO:info@newvillagerts.org
END:VEVENT
BEGIN:VEVENT
DTSTART;TZID=America/Los_Angeles:20250322T193000
DTEND;TZID=America/Los_Angeles:20250322T193000
DTSTAMP:20260424T083317
CREATED:20240703T213323Z
LAST-MODIFIED:20250304T022811Z
UID:10003887-1742671800-1742671800@newvillagearts.org
SUMMARY:Sandra Delgado’s LA HAVANA MADRID
DESCRIPTION:
URL:https://newvillagearts.org/event/la-havana-madrid/2025-03-22/
LOCATION:Ray Charles Stage in the Conrad Prebys Theatre\, 2787 State Street\, Carlsbad\, 92008\, United States
CATEGORIES:Theatre
ATTACH;FMTTYPE=image/png:https://newvillagearts.org/wp-content/uploads/2024/07/LaHavana-show-title-clr.png
ORGANIZER;CN="New Village Arts":MAILTO:info@newvillagerts.org
END:VEVENT
BEGIN:VEVENT
DTSTART;TZID=America/Los_Angeles:20250323T140000
DTEND;TZID=America/Los_Angeles:20250323T140000
DTSTAMP:20260424T083317
CREATED:20240703T213323Z
LAST-MODIFIED:20250304T022811Z
UID:10003888-1742738400-1742738400@newvillagearts.org
SUMMARY:Sandra Delgado’s LA HAVANA MADRID
DESCRIPTION:
URL:https://newvillagearts.org/event/la-havana-madrid/2025-03-23/
LOCATION:Ray Charles Stage in the Conrad Prebys Theatre\, 2787 State Street\, Carlsbad\, 92008\, United States
CATEGORIES:Theatre
ATTACH;FMTTYPE=image/png:https://newvillagearts.org/wp-content/uploads/2024/07/LaHavana-show-title-clr.png
ORGANIZER;CN="New Village Arts":MAILTO:info@newvillagerts.org
END:VEVENT
BEGIN:VEVENT
DTSTART;TZID=America/Los_Angeles:20250327T193000
DTEND;TZID=America/Los_Angeles:20250327T193000
DTSTAMP:20260424T083317
CREATED:20240703T213323Z
LAST-MODIFIED:20250304T022811Z
UID:10003889-1743103800-1743103800@newvillagearts.org
SUMMARY:Sandra Delgado’s LA HAVANA MADRID
DESCRIPTION:
URL:https://newvillagearts.org/event/la-havana-madrid/2025-03-27/
LOCATION:Ray Charles Stage in the Conrad Prebys Theatre\, 2787 State Street\, Carlsbad\, 92008\, United States
CATEGORIES:Theatre
ATTACH;FMTTYPE=image/png:https://newvillagearts.org/wp-content/uploads/2024/07/LaHavana-show-title-clr.png
ORGANIZER;CN="New Village Arts":MAILTO:info@newvillagerts.org
END:VEVENT
BEGIN:VEVENT
DTSTART;TZID=America/Los_Angeles:20250328T193000
DTEND;TZID=America/Los_Angeles:20250328T193000
DTSTAMP:20260424T083317
CREATED:20240703T213323Z
LAST-MODIFIED:20250304T022811Z
UID:10003890-1743190200-1743190200@newvillagearts.org
SUMMARY:Sandra Delgado’s LA HAVANA MADRID
DESCRIPTION:
URL:https://newvillagearts.org/event/la-havana-madrid/2025-03-28/
LOCATION:Ray Charles Stage in the Conrad Prebys Theatre\, 2787 State Street\, Carlsbad\, 92008\, United States
CATEGORIES:Theatre
ATTACH;FMTTYPE=image/png:https://newvillagearts.org/wp-content/uploads/2024/07/LaHavana-show-title-clr.png
ORGANIZER;CN="New Village Arts":MAILTO:info@newvillagerts.org
END:VEVENT
BEGIN:VEVENT
DTSTART;TZID=America/Los_Angeles:20250329T193000
DTEND;TZID=America/Los_Angeles:20250329T193000
DTSTAMP:20260424T083317
CREATED:20240703T213323Z
LAST-MODIFIED:20250304T022811Z
UID:10003891-1743276600-1743276600@newvillagearts.org
SUMMARY:Sandra Delgado’s LA HAVANA MADRID
DESCRIPTION:
URL:https://newvillagearts.org/event/la-havana-madrid/2025-03-29/
LOCATION:Ray Charles Stage in the Conrad Prebys Theatre\, 2787 State Street\, Carlsbad\, 92008\, United States
CATEGORIES:Theatre
ATTACH;FMTTYPE=image/png:https://newvillagearts.org/wp-content/uploads/2024/07/LaHavana-show-title-clr.png
ORGANIZER;CN="New Village Arts":MAILTO:info@newvillagerts.org
END:VEVENT
BEGIN:VEVENT
DTSTART;TZID=America/Los_Angeles:20250330T140000
DTEND;TZID=America/Los_Angeles:20250330T140000
DTSTAMP:20260424T083317
CREATED:20240703T213323Z
LAST-MODIFIED:20250304T022811Z
UID:10003892-1743343200-1743343200@newvillagearts.org
SUMMARY:Sandra Delgado’s LA HAVANA MADRID
DESCRIPTION:
URL:https://newvillagearts.org/event/la-havana-madrid/2025-03-30/
LOCATION:Ray Charles Stage in the Conrad Prebys Theatre\, 2787 State Street\, Carlsbad\, 92008\, United States
CATEGORIES:Theatre
ATTACH;FMTTYPE=image/png:https://newvillagearts.org/wp-content/uploads/2024/07/LaHavana-show-title-clr.png
ORGANIZER;CN="New Village Arts":MAILTO:info@newvillagerts.org
END:VEVENT
BEGIN:VEVENT
DTSTART;TZID=America/Los_Angeles:20250330T160000
DTEND;TZID=America/Los_Angeles:20250330T160000
DTSTAMP:20260424T083317
CREATED:20250327T232827Z
LAST-MODIFIED:20250327T233110Z
UID:10004523-1743350400-1743350400@newvillagearts.org
SUMMARY:LA HAVANA MADRID Artist Talkback
DESCRIPTION:
URL:https://newvillagearts.org/event/la-havana-madrid-artist-talkback/2025-03-30/
LOCATION:Ray Charles Stage in the Conrad Prebys Theatre\, 2787 State Street\, Carlsbad\, 92008\, United States
ATTACH;FMTTYPE=image/png:https://newvillagearts.org/wp-content/uploads/2025/03/3.png
ORGANIZER;CN="New Village Arts":MAILTO:info@newvillagerts.org
END:VEVENT
END:VCALENDAR