BEGIN:VCALENDAR
VERSION:2.0
PRODID:-//New Village Arts - ECPv6.15.20//NONSGML v1.0//EN
CALSCALE:GREGORIAN
METHOD:PUBLISH
X-ORIGINAL-URL:https://newvillagearts.org
X-WR-CALDESC:Events for New Village Arts
REFRESH-INTERVAL;VALUE=DURATION:PT1H
X-Robots-Tag:noindex
X-PUBLISHED-TTL:PT1H
BEGIN:VTIMEZONE
TZID:America/Los_Angeles
BEGIN:DAYLIGHT
TZOFFSETFROM:-0800
TZOFFSETTO:-0700
TZNAME:PDT
DTSTART:20230312T100000
END:DAYLIGHT
BEGIN:STANDARD
TZOFFSETFROM:-0700
TZOFFSETTO:-0800
TZNAME:PST
DTSTART:20231105T090000
END:STANDARD
BEGIN:DAYLIGHT
TZOFFSETFROM:-0800
TZOFFSETTO:-0700
TZNAME:PDT
DTSTART:20240310T100000
END:DAYLIGHT
BEGIN:STANDARD
TZOFFSETFROM:-0700
TZOFFSETTO:-0800
TZNAME:PST
DTSTART:20241103T090000
END:STANDARD
BEGIN:DAYLIGHT
TZOFFSETFROM:-0800
TZOFFSETTO:-0700
TZNAME:PDT
DTSTART:20250309T100000
END:DAYLIGHT
BEGIN:STANDARD
TZOFFSETFROM:-0700
TZOFFSETTO:-0800
TZNAME:PST
DTSTART:20251102T090000
END:STANDARD
END:VTIMEZONE
BEGIN:VEVENT
DTSTART;TZID=America/Los_Angeles:20241201T140000
DTEND;TZID=America/Los_Angeles:20241201T140000
DTSTAMP:20260424T085105
CREATED:20240703T204504Z
LAST-MODIFIED:20241218T214057Z
UID:10003841-1733061600-1733061600@newvillagearts.org
SUMMARY:Miracle on 34th Street: A Live Musical Radio Play
DESCRIPTION:
URL:https://newvillagearts.org/event/miracle-on-34th-street-a-live-musical-radio-play/2024-12-01/
LOCATION:Ray Charles Stage in the Conrad Prebys Theatre\, 2787 State Street\, Carlsbad\, 92008\, United States
CATEGORIES:Theatre
ATTACH;FMTTYPE=image/png:https://newvillagearts.org/wp-content/uploads/2024/07/Mon34st-show-title-clr.png
ORGANIZER;CN="New Village Arts":MAILTO:info@newvillagerts.org
END:VEVENT
BEGIN:VEVENT
DTSTART;TZID=America/Los_Angeles:20241203T180000
DTEND;TZID=America/Los_Angeles:20241203T203000
DTSTAMP:20260424T085105
CREATED:20241130T224341Z
LAST-MODIFIED:20241130T225531Z
UID:10004090-1733248800-1733257800@newvillagearts.org
SUMMARY:Paint & Sip with Monica Martin: Pretty Poinsettias
DESCRIPTION:
URL:https://newvillagearts.org/event/paint-sip-with-monica-martin-dec3/
LOCATION:Sahm Foundation Arts Education Center\, 2787 State St\, Carlsbad\, CA\, 92008\, United States
CATEGORIES:Classes,Education
ATTACH;FMTTYPE=image/png:https://newvillagearts.org/wp-content/uploads/2024/11/Paint-Sip.png
ORGANIZER;CN="New Village Arts":MAILTO:info@newvillagerts.org
END:VEVENT
BEGIN:VEVENT
DTSTART;TZID=America/Los_Angeles:20241204T183000
DTEND;TZID=America/Los_Angeles:20241204T200000
DTSTAMP:20260424T085105
CREATED:20240821T011352Z
LAST-MODIFIED:20241009T190006Z
UID:10004003-1733337000-1733342400@newvillagearts.org
SUMMARY:Improv with Patrick McInnis
DESCRIPTION:
URL:https://newvillagearts.org/event/improv-with-patrick-mcinnis-fall24/2024-12-04/
LOCATION:Sahm Foundation Arts Education Center\, 2787 State St\, Carlsbad\, CA\, 92008\, United States
CATEGORIES:Classes,Education,Improv
ORGANIZER;CN="New Village Arts":MAILTO:info@newvillagerts.org
END:VEVENT
BEGIN:VEVENT
DTSTART;TZID=America/Los_Angeles:20241205T103000
DTEND;TZID=America/Los_Angeles:20241205T120000
DTSTAMP:20260424T085105
CREATED:20241129T195320Z
LAST-MODIFIED:20241129T195320Z
UID:10004072-1733394600-1733400000@newvillagearts.org
SUMMARY:Daytime Improv
DESCRIPTION:
URL:https://newvillagearts.org/event/daytime-improv/
LOCATION:Sahm Foundation Arts Education Center\, 2787 State St\, Carlsbad\, CA\, 92008\, United States
CATEGORIES:Classes,Education,Improv
ATTACH;FMTTYPE=image/png:https://newvillagearts.org/wp-content/uploads/2024/11/Daytime-Improv-FP.png
ORGANIZER;CN="New Village Arts":MAILTO:info@newvillagerts.org
END:VEVENT
BEGIN:VEVENT
DTSTART;TZID=America/Los_Angeles:20241205T193000
DTEND;TZID=America/Los_Angeles:20241205T193000
DTSTAMP:20260424T085105
CREATED:20240703T204504Z
LAST-MODIFIED:20241218T214057Z
UID:10003843-1733427000-1733427000@newvillagearts.org
SUMMARY:Miracle on 34th Street: A Live Musical Radio Play
DESCRIPTION:
URL:https://newvillagearts.org/event/miracle-on-34th-street-a-live-musical-radio-play/2024-12-05/
LOCATION:Ray Charles Stage in the Conrad Prebys Theatre\, 2787 State Street\, Carlsbad\, 92008\, United States
CATEGORIES:Theatre
ATTACH;FMTTYPE=image/png:https://newvillagearts.org/wp-content/uploads/2024/07/Mon34st-show-title-clr.png
ORGANIZER;CN="New Village Arts":MAILTO:info@newvillagerts.org
END:VEVENT
BEGIN:VEVENT
DTSTART;TZID=America/Los_Angeles:20241206T193000
DTEND;TZID=America/Los_Angeles:20241206T193000
DTSTAMP:20260424T085105
CREATED:20240703T204504Z
LAST-MODIFIED:20241218T214057Z
UID:10003844-1733513400-1733513400@newvillagearts.org
SUMMARY:Miracle on 34th Street: A Live Musical Radio Play
DESCRIPTION:
URL:https://newvillagearts.org/event/miracle-on-34th-street-a-live-musical-radio-play/2024-12-06/
LOCATION:Ray Charles Stage in the Conrad Prebys Theatre\, 2787 State Street\, Carlsbad\, 92008\, United States
CATEGORIES:Theatre
ATTACH;FMTTYPE=image/png:https://newvillagearts.org/wp-content/uploads/2024/07/Mon34st-show-title-clr.png
ORGANIZER;CN="New Village Arts":MAILTO:info@newvillagerts.org
END:VEVENT
BEGIN:VEVENT
DTSTART;TZID=America/Los_Angeles:20241207T140000
DTEND;TZID=America/Los_Angeles:20241207T140000
DTSTAMP:20260424T085105
CREATED:20240703T204504Z
LAST-MODIFIED:20241218T214057Z
UID:10003845-1733580000-1733580000@newvillagearts.org
SUMMARY:Miracle on 34th Street: A Live Musical Radio Play
DESCRIPTION:
URL:https://newvillagearts.org/event/miracle-on-34th-street-a-live-musical-radio-play/2024-12-07/1/
LOCATION:Ray Charles Stage in the Conrad Prebys Theatre\, 2787 State Street\, Carlsbad\, 92008\, United States
CATEGORIES:Theatre
ATTACH;FMTTYPE=image/png:https://newvillagearts.org/wp-content/uploads/2024/07/Mon34st-show-title-clr.png
ORGANIZER;CN="New Village Arts":MAILTO:info@newvillagerts.org
END:VEVENT
BEGIN:VEVENT
DTSTART;TZID=America/Los_Angeles:20241207T193000
DTEND;TZID=America/Los_Angeles:20241207T193000
DTSTAMP:20260424T085105
CREATED:20240703T204504Z
LAST-MODIFIED:20241218T214057Z
UID:10003846-1733599800-1733599800@newvillagearts.org
SUMMARY:Miracle on 34th Street: A Live Musical Radio Play
DESCRIPTION:
URL:https://newvillagearts.org/event/miracle-on-34th-street-a-live-musical-radio-play/2024-12-07/2/
LOCATION:Ray Charles Stage in the Conrad Prebys Theatre\, 2787 State Street\, Carlsbad\, 92008\, United States
CATEGORIES:Theatre
ATTACH;FMTTYPE=image/png:https://newvillagearts.org/wp-content/uploads/2024/07/Mon34st-show-title-clr.png
ORGANIZER;CN="New Village Arts":MAILTO:info@newvillagerts.org
END:VEVENT
BEGIN:VEVENT
DTSTART;TZID=America/Los_Angeles:20241208T140000
DTEND;TZID=America/Los_Angeles:20241208T140000
DTSTAMP:20260424T085105
CREATED:20240703T204504Z
LAST-MODIFIED:20241218T214057Z
UID:10003847-1733666400-1733666400@newvillagearts.org
SUMMARY:Miracle on 34th Street: A Live Musical Radio Play
DESCRIPTION:
URL:https://newvillagearts.org/event/miracle-on-34th-street-a-live-musical-radio-play/2024-12-08/
LOCATION:Ray Charles Stage in the Conrad Prebys Theatre\, 2787 State Street\, Carlsbad\, 92008\, United States
CATEGORIES:Theatre
ATTACH;FMTTYPE=image/png:https://newvillagearts.org/wp-content/uploads/2024/07/Mon34st-show-title-clr.png
ORGANIZER;CN="New Village Arts":MAILTO:info@newvillagerts.org
END:VEVENT
BEGIN:VEVENT
DTSTART;TZID=America/Los_Angeles:20241211T140000
DTEND;TZID=America/Los_Angeles:20241211T140000
DTSTAMP:20260424T085105
CREATED:20240703T204504Z
LAST-MODIFIED:20241218T214057Z
UID:10003848-1733925600-1733925600@newvillagearts.org
SUMMARY:Miracle on 34th Street: A Live Musical Radio Play
DESCRIPTION:
URL:https://newvillagearts.org/event/miracle-on-34th-street-a-live-musical-radio-play/2024-12-11/
LOCATION:Ray Charles Stage in the Conrad Prebys Theatre\, 2787 State Street\, Carlsbad\, 92008\, United States
CATEGORIES:Theatre
ATTACH;FMTTYPE=image/png:https://newvillagearts.org/wp-content/uploads/2024/07/Mon34st-show-title-clr.png
ORGANIZER;CN="New Village Arts":MAILTO:info@newvillagerts.org
END:VEVENT
BEGIN:VEVENT
DTSTART;TZID=America/Los_Angeles:20241211T183000
DTEND;TZID=America/Los_Angeles:20241211T200000
DTSTAMP:20260424T085105
CREATED:20240821T011352Z
LAST-MODIFIED:20241009T190006Z
UID:10004004-1733941800-1733947200@newvillagearts.org
SUMMARY:Improv with Patrick McInnis
DESCRIPTION:
URL:https://newvillagearts.org/event/improv-with-patrick-mcinnis-fall24/2024-12-11/
LOCATION:Sahm Foundation Arts Education Center\, 2787 State St\, Carlsbad\, CA\, 92008\, United States
CATEGORIES:Classes,Education,Improv
ORGANIZER;CN="New Village Arts":MAILTO:info@newvillagerts.org
END:VEVENT
BEGIN:VEVENT
DTSTART;TZID=America/Los_Angeles:20241212T180000
DTEND;TZID=America/Los_Angeles:20241212T200000
DTSTAMP:20260424T085105
CREATED:20241010T231759Z
LAST-MODIFIED:20241010T232111Z
UID:10004045-1734026400-1734033600@newvillagearts.org
SUMMARY:Acting For The Stage & Film
DESCRIPTION:
URL:https://newvillagearts.org/event/acting-for-the-stage-film/2024-12-12/
LOCATION:Sahm Foundation Arts Education Center\, 2787 State St\, Carlsbad\, CA\, 92008\, United States
ORGANIZER;CN="New Village Arts":MAILTO:info@newvillagerts.org
END:VEVENT
BEGIN:VEVENT
DTSTART;TZID=America/Los_Angeles:20241212T193000
DTEND;TZID=America/Los_Angeles:20241212T193000
DTSTAMP:20260424T085105
CREATED:20240703T204504Z
LAST-MODIFIED:20241218T214057Z
UID:10003849-1734031800-1734031800@newvillagearts.org
SUMMARY:Miracle on 34th Street: A Live Musical Radio Play
DESCRIPTION:
URL:https://newvillagearts.org/event/miracle-on-34th-street-a-live-musical-radio-play/2024-12-12/
LOCATION:Ray Charles Stage in the Conrad Prebys Theatre\, 2787 State Street\, Carlsbad\, 92008\, United States
CATEGORIES:Theatre
ATTACH;FMTTYPE=image/png:https://newvillagearts.org/wp-content/uploads/2024/07/Mon34st-show-title-clr.png
ORGANIZER;CN="New Village Arts":MAILTO:info@newvillagerts.org
END:VEVENT
BEGIN:VEVENT
DTSTART;TZID=America/Los_Angeles:20241213T193000
DTEND;TZID=America/Los_Angeles:20241213T193000
DTSTAMP:20260424T085105
CREATED:20240703T204504Z
LAST-MODIFIED:20241218T214057Z
UID:10003850-1734118200-1734118200@newvillagearts.org
SUMMARY:Miracle on 34th Street: A Live Musical Radio Play
DESCRIPTION:
URL:https://newvillagearts.org/event/miracle-on-34th-street-a-live-musical-radio-play/2024-12-13/
LOCATION:Ray Charles Stage in the Conrad Prebys Theatre\, 2787 State Street\, Carlsbad\, 92008\, United States
CATEGORIES:Theatre
ATTACH;FMTTYPE=image/png:https://newvillagearts.org/wp-content/uploads/2024/07/Mon34st-show-title-clr.png
ORGANIZER;CN="New Village Arts":MAILTO:info@newvillagerts.org
END:VEVENT
BEGIN:VEVENT
DTSTART;TZID=America/Los_Angeles:20241214T140000
DTEND;TZID=America/Los_Angeles:20241214T140000
DTSTAMP:20260424T085105
CREATED:20240703T204504Z
LAST-MODIFIED:20241218T214057Z
UID:10003851-1734184800-1734184800@newvillagearts.org
SUMMARY:Miracle on 34th Street: A Live Musical Radio Play
DESCRIPTION:
URL:https://newvillagearts.org/event/miracle-on-34th-street-a-live-musical-radio-play/2024-12-14/1/
LOCATION:Ray Charles Stage in the Conrad Prebys Theatre\, 2787 State Street\, Carlsbad\, 92008\, United States
CATEGORIES:Theatre
ATTACH;FMTTYPE=image/png:https://newvillagearts.org/wp-content/uploads/2024/07/Mon34st-show-title-clr.png
ORGANIZER;CN="New Village Arts":MAILTO:info@newvillagerts.org
END:VEVENT
BEGIN:VEVENT
DTSTART;TZID=America/Los_Angeles:20241214T193000
DTEND;TZID=America/Los_Angeles:20241214T193000
DTSTAMP:20260424T085105
CREATED:20240703T204504Z
LAST-MODIFIED:20241218T214057Z
UID:10003852-1734204600-1734204600@newvillagearts.org
SUMMARY:Miracle on 34th Street: A Live Musical Radio Play
DESCRIPTION:
URL:https://newvillagearts.org/event/miracle-on-34th-street-a-live-musical-radio-play/2024-12-14/2/
LOCATION:Ray Charles Stage in the Conrad Prebys Theatre\, 2787 State Street\, Carlsbad\, 92008\, United States
CATEGORIES:Theatre
ATTACH;FMTTYPE=image/png:https://newvillagearts.org/wp-content/uploads/2024/07/Mon34st-show-title-clr.png
ORGANIZER;CN="New Village Arts":MAILTO:info@newvillagerts.org
END:VEVENT
BEGIN:VEVENT
DTSTART;TZID=America/Los_Angeles:20241214T200000
DTEND;TZID=America/Los_Angeles:20241214T200000
DTSTAMP:20260424T085105
CREATED:20241129T201038Z
LAST-MODIFIED:20241210T221636Z
UID:10004087-1734206400-1734206400@newvillagearts.org
SUMMARY:Drag Trivia: Holiday Edition
DESCRIPTION:
URL:https://newvillagearts.org/event/drag-trivia/
LOCATION:White Family Next Stage\, 2787 State Street\, Carlsbad\, CA\, 92008\, United States
ATTACH;FMTTYPE=image/png:https://newvillagearts.org/wp-content/uploads/2024/11/Drag-Shows-with-Tink-le-Belle-Instagram-Post.png
ORGANIZER;CN="New Village Arts":MAILTO:info@newvillagerts.org
END:VEVENT
BEGIN:VEVENT
DTSTART;TZID=America/Los_Angeles:20241215T140000
DTEND;TZID=America/Los_Angeles:20241215T140000
DTSTAMP:20260424T085105
CREATED:20240703T204504Z
LAST-MODIFIED:20241218T214057Z
UID:10003853-1734271200-1734271200@newvillagearts.org
SUMMARY:Miracle on 34th Street: A Live Musical Radio Play
DESCRIPTION:
URL:https://newvillagearts.org/event/miracle-on-34th-street-a-live-musical-radio-play/2024-12-15/
LOCATION:Ray Charles Stage in the Conrad Prebys Theatre\, 2787 State Street\, Carlsbad\, 92008\, United States
CATEGORIES:Theatre
ATTACH;FMTTYPE=image/png:https://newvillagearts.org/wp-content/uploads/2024/07/Mon34st-show-title-clr.png
ORGANIZER;CN="New Village Arts":MAILTO:info@newvillagerts.org
END:VEVENT
BEGIN:VEVENT
DTSTART;TZID=America/Los_Angeles:20241216T180000
DTEND;TZID=America/Los_Angeles:20241216T193000
DTSTAMP:20260424T085105
CREATED:20241205T012757Z
LAST-MODIFIED:20241205T013126Z
UID:10004092-1734372000-1734377400@newvillagearts.org
SUMMARY:New Village Virtual Film Club: Meet Me Next Christmas
DESCRIPTION:
URL:https://newvillagearts.org/event/new-village-virtual-film-club-dec/
LOCATION:Virtual\, CA\, 92008\, United States
CATEGORIES:Film Club,Free Event!
ATTACH;FMTTYPE=image/png:https://newvillagearts.org/wp-content/uploads/2024/05/Website-Featured-Images.png
END:VEVENT
BEGIN:VEVENT
DTSTART;TZID=America/Los_Angeles:20241216T190000
DTEND;TZID=America/Los_Angeles:20241216T190000
DTSTAMP:20260424T085105
CREATED:20241129T220037Z
LAST-MODIFIED:20241205T223206Z
UID:10004089-1734375600-1734375600@newvillagearts.org
SUMMARY:Snowflake Serenade: Carlsbad High School Carolers
DESCRIPTION:
URL:https://newvillagearts.org/event/carlsbad-high-school-carolers/2024-12-16/1/
LOCATION:White Family Next Stage\, 2787 State Street\, Carlsbad\, CA\, 92008\, United States
ATTACH;FMTTYPE=image/png:https://newvillagearts.org/wp-content/uploads/2024/11/Drag-Shows-with-Tink-le-Belle-Instagram-Post-3.png
ORGANIZER;CN="New Village Arts":MAILTO:info@newvillagerts.org
END:VEVENT
BEGIN:VEVENT
DTSTART;TZID=America/Los_Angeles:20241216T200000
DTEND;TZID=America/Los_Angeles:20241216T200000
DTSTAMP:20260424T085105
CREATED:20241129T220037Z
LAST-MODIFIED:20241205T223206Z
UID:10004093-1734379200-1734379200@newvillagearts.org
SUMMARY:Snowflake Serenade: Carlsbad High School Carolers
DESCRIPTION:
URL:https://newvillagearts.org/event/carlsbad-high-school-carolers/2024-12-16/2/
LOCATION:White Family Next Stage\, 2787 State Street\, Carlsbad\, CA\, 92008\, United States
ATTACH;FMTTYPE=image/png:https://newvillagearts.org/wp-content/uploads/2024/11/Drag-Shows-with-Tink-le-Belle-Instagram-Post-3.png
ORGANIZER;CN="New Village Arts":MAILTO:info@newvillagerts.org
END:VEVENT
BEGIN:VEVENT
DTSTART;TZID=America/Los_Angeles:20241217T180000
DTEND;TZID=America/Los_Angeles:20241217T203000
DTSTAMP:20260424T085105
CREATED:20241130T225837Z
LAST-MODIFIED:20241130T225837Z
UID:10004091-1734458400-1734467400@newvillagearts.org
SUMMARY:Paint & Sip with Monica Martin: Light up the Holidays
DESCRIPTION:
URL:https://newvillagearts.org/event/paint-sip-with-monica-martin-dec-17/
LOCATION:Sahm Foundation Arts Education Center\, 2787 State St\, Carlsbad\, CA\, 92008\, United States
CATEGORIES:Classes,Education
ATTACH;FMTTYPE=image/png:https://newvillagearts.org/wp-content/uploads/2024/11/Paint-Sip.png
ORGANIZER;CN="New Village Arts":MAILTO:info@newvillagerts.org
END:VEVENT
BEGIN:VEVENT
DTSTART;TZID=America/Los_Angeles:20241217T190000
DTEND;TZID=America/Los_Angeles:20241217T190000
DTSTAMP:20260424T085105
CREATED:20241203T185957Z
LAST-MODIFIED:20241203T185957Z
UID:10004088-1734462000-1734462000@newvillagearts.org
SUMMARY:1222 Oceanfront: A Black Family Christmas KPBS Viewing Party
DESCRIPTION:
URL:https://newvillagearts.org/event/1222-oceanfront-a-black-family-christmas-kpbs-viewing-party/
LOCATION:Ray Charles Stage in the Conrad Prebys Theatre\, 2787 State Street\, Carlsbad\, 92008\, United States
CATEGORIES:Free Event!
ATTACH;FMTTYPE=image/png:https://newvillagearts.org/wp-content/uploads/2024/11/1222-Oceanfront-Viewing-FP.png
ORGANIZER;CN="New Village Arts":MAILTO:info@newvillagerts.org
END:VEVENT
BEGIN:VEVENT
DTSTART;TZID=America/Los_Angeles:20241218T140000
DTEND;TZID=America/Los_Angeles:20241218T140000
DTSTAMP:20260424T085105
CREATED:20240703T204504Z
LAST-MODIFIED:20241218T214057Z
UID:10003854-1734530400-1734530400@newvillagearts.org
SUMMARY:Miracle on 34th Street: A Live Musical Radio Play
DESCRIPTION:
URL:https://newvillagearts.org/event/miracle-on-34th-street-a-live-musical-radio-play/2024-12-18/
LOCATION:Ray Charles Stage in the Conrad Prebys Theatre\, 2787 State Street\, Carlsbad\, 92008\, United States
CATEGORIES:Theatre
ATTACH;FMTTYPE=image/png:https://newvillagearts.org/wp-content/uploads/2024/07/Mon34st-show-title-clr.png
ORGANIZER;CN="New Village Arts":MAILTO:info@newvillagerts.org
END:VEVENT
BEGIN:VEVENT
DTSTART;TZID=America/Los_Angeles:20241218T183000
DTEND;TZID=America/Los_Angeles:20241218T200000
DTSTAMP:20260424T085105
CREATED:20240821T011352Z
LAST-MODIFIED:20241009T190006Z
UID:10004005-1734546600-1734552000@newvillagearts.org
SUMMARY:Improv with Patrick McInnis
DESCRIPTION:
URL:https://newvillagearts.org/event/improv-with-patrick-mcinnis-fall24/2024-12-18/
LOCATION:Sahm Foundation Arts Education Center\, 2787 State St\, Carlsbad\, CA\, 92008\, United States
CATEGORIES:Classes,Education,Improv
ORGANIZER;CN="New Village Arts":MAILTO:info@newvillagerts.org
END:VEVENT
BEGIN:VEVENT
DTSTART;TZID=America/Los_Angeles:20241219T180000
DTEND;TZID=America/Los_Angeles:20241219T200000
DTSTAMP:20260424T085105
CREATED:20241010T231759Z
LAST-MODIFIED:20241010T232111Z
UID:10004046-1734631200-1734638400@newvillagearts.org
SUMMARY:Acting For The Stage & Film
DESCRIPTION:
URL:https://newvillagearts.org/event/acting-for-the-stage-film/2024-12-19/
LOCATION:Sahm Foundation Arts Education Center\, 2787 State St\, Carlsbad\, CA\, 92008\, United States
ORGANIZER;CN="New Village Arts":MAILTO:info@newvillagerts.org
END:VEVENT
BEGIN:VEVENT
DTSTART;TZID=America/Los_Angeles:20241219T193000
DTEND;TZID=America/Los_Angeles:20241219T193000
DTSTAMP:20260424T085105
CREATED:20240703T204504Z
LAST-MODIFIED:20241218T214057Z
UID:10003855-1734636600-1734636600@newvillagearts.org
SUMMARY:Miracle on 34th Street: A Live Musical Radio Play
DESCRIPTION:
URL:https://newvillagearts.org/event/miracle-on-34th-street-a-live-musical-radio-play/2024-12-19/
LOCATION:Ray Charles Stage in the Conrad Prebys Theatre\, 2787 State Street\, Carlsbad\, 92008\, United States
CATEGORIES:Theatre
ATTACH;FMTTYPE=image/png:https://newvillagearts.org/wp-content/uploads/2024/07/Mon34st-show-title-clr.png
ORGANIZER;CN="New Village Arts":MAILTO:info@newvillagerts.org
END:VEVENT
BEGIN:VEVENT
DTSTART;TZID=America/Los_Angeles:20241220T193000
DTEND;TZID=America/Los_Angeles:20241220T193000
DTSTAMP:20260424T085105
CREATED:20240703T204504Z
LAST-MODIFIED:20241218T214057Z
UID:10003856-1734723000-1734723000@newvillagearts.org
SUMMARY:Miracle on 34th Street: A Live Musical Radio Play
DESCRIPTION:
URL:https://newvillagearts.org/event/miracle-on-34th-street-a-live-musical-radio-play/2024-12-20/
LOCATION:Ray Charles Stage in the Conrad Prebys Theatre\, 2787 State Street\, Carlsbad\, 92008\, United States
CATEGORIES:Theatre
ATTACH;FMTTYPE=image/png:https://newvillagearts.org/wp-content/uploads/2024/07/Mon34st-show-title-clr.png
ORGANIZER;CN="New Village Arts":MAILTO:info@newvillagerts.org
END:VEVENT
BEGIN:VEVENT
DTSTART;TZID=America/Los_Angeles:20241221T140000
DTEND;TZID=America/Los_Angeles:20241221T140000
DTSTAMP:20260424T085105
CREATED:20240703T204504Z
LAST-MODIFIED:20241218T214057Z
UID:10003857-1734789600-1734789600@newvillagearts.org
SUMMARY:Miracle on 34th Street: A Live Musical Radio Play
DESCRIPTION:
URL:https://newvillagearts.org/event/miracle-on-34th-street-a-live-musical-radio-play/2024-12-21/1/
LOCATION:Ray Charles Stage in the Conrad Prebys Theatre\, 2787 State Street\, Carlsbad\, 92008\, United States
CATEGORIES:Theatre
ATTACH;FMTTYPE=image/png:https://newvillagearts.org/wp-content/uploads/2024/07/Mon34st-show-title-clr.png
ORGANIZER;CN="New Village Arts":MAILTO:info@newvillagerts.org
END:VEVENT
BEGIN:VEVENT
DTSTART;TZID=America/Los_Angeles:20241221T193000
DTEND;TZID=America/Los_Angeles:20241221T193000
DTSTAMP:20260424T085105
CREATED:20240703T204504Z
LAST-MODIFIED:20241218T214057Z
UID:10003858-1734809400-1734809400@newvillagearts.org
SUMMARY:Miracle on 34th Street: A Live Musical Radio Play
DESCRIPTION:
URL:https://newvillagearts.org/event/miracle-on-34th-street-a-live-musical-radio-play/2024-12-21/2/
LOCATION:Ray Charles Stage in the Conrad Prebys Theatre\, 2787 State Street\, Carlsbad\, 92008\, United States
CATEGORIES:Theatre
ATTACH;FMTTYPE=image/png:https://newvillagearts.org/wp-content/uploads/2024/07/Mon34st-show-title-clr.png
ORGANIZER;CN="New Village Arts":MAILTO:info@newvillagerts.org
END:VEVENT
END:VCALENDAR