BEGIN:VCALENDAR
VERSION:2.0
PRODID:-//New Village Arts - ECPv6.15.20//NONSGML v1.0//EN
CALSCALE:GREGORIAN
METHOD:PUBLISH
X-ORIGINAL-URL:https://newvillagearts.org
X-WR-CALDESC:Events for New Village Arts
REFRESH-INTERVAL;VALUE=DURATION:PT1H
X-Robots-Tag:noindex
X-PUBLISHED-TTL:PT1H
BEGIN:VTIMEZONE
TZID:America/Los_Angeles
BEGIN:DAYLIGHT
TZOFFSETFROM:-0800
TZOFFSETTO:-0700
TZNAME:PDT
DTSTART:20240310T100000
END:DAYLIGHT
BEGIN:STANDARD
TZOFFSETFROM:-0700
TZOFFSETTO:-0800
TZNAME:PST
DTSTART:20241103T090000
END:STANDARD
BEGIN:DAYLIGHT
TZOFFSETFROM:-0800
TZOFFSETTO:-0700
TZNAME:PDT
DTSTART:20250309T100000
END:DAYLIGHT
BEGIN:STANDARD
TZOFFSETFROM:-0700
TZOFFSETTO:-0800
TZNAME:PST
DTSTART:20251102T090000
END:STANDARD
BEGIN:DAYLIGHT
TZOFFSETFROM:-0800
TZOFFSETTO:-0700
TZNAME:PDT
DTSTART:20260308T100000
END:DAYLIGHT
BEGIN:STANDARD
TZOFFSETFROM:-0700
TZOFFSETTO:-0800
TZNAME:PST
DTSTART:20261101T090000
END:STANDARD
END:VTIMEZONE
BEGIN:VEVENT
DTSTART;TZID=America/Los_Angeles:20250402T183000
DTEND;TZID=America/Los_Angeles:20250402T200000
DTSTAMP:20260425T063324
CREATED:20250115T010050Z
LAST-MODIFIED:20260130T010633Z
UID:10004150-1743618600-1743624000@newvillagearts.org
SUMMARY:Drop-in Improv with Patrick McInnis
DESCRIPTION:
URL:https://newvillagearts.org/event/drop-in-improv-with-patrick-mcinnis/2025-04-02/
LOCATION:Sahm Foundation Arts Education Center\, 2787 State St\, Carlsbad\, CA\, 92008\, United States
CATEGORIES:Improv
ATTACH;FMTTYPE=image/png:https://newvillagearts.org/wp-content/uploads/2024/12/Wednesday-Improv-FP-1.png
ORGANIZER;CN="New Village Arts":MAILTO:info@newvillagerts.org
END:VEVENT
BEGIN:VEVENT
DTSTART;TZID=America/Los_Angeles:20250403T183000
DTEND;TZID=America/Los_Angeles:20250403T183000
DTSTAMP:20260425T063324
CREATED:20250320T185452Z
LAST-MODIFIED:20250404T194253Z
UID:10004506-1743705000-1743705000@newvillagearts.org
SUMMARY:Pre-Show Music: Rhythm and Roots
DESCRIPTION:
URL:https://newvillagearts.org/event/joes-cafe/2025-04-03/
LOCATION:White Family Next Stage\, 2787 State Street\, Carlsbad\, CA\, 92008\, United States
CATEGORIES:Music
ATTACH;FMTTYPE=image/png:https://newvillagearts.org/wp-content/uploads/2025/03/Rhythm-and-Roots-FP.png
ORGANIZER;CN="New Village Arts":MAILTO:info@newvillagerts.org
END:VEVENT
BEGIN:VEVENT
DTSTART;TZID=America/Los_Angeles:20250403T193000
DTEND;TZID=America/Los_Angeles:20250403T193000
DTSTAMP:20260425T063324
CREATED:20240703T213323Z
LAST-MODIFIED:20250304T022811Z
UID:10003893-1743708600-1743708600@newvillagearts.org
SUMMARY:Sandra Delgado’s LA HAVANA MADRID
DESCRIPTION:
URL:https://newvillagearts.org/event/la-havana-madrid/2025-04-03/
LOCATION:Ray Charles Stage in the Conrad Prebys Theatre\, 2787 State Street\, Carlsbad\, 92008\, United States
CATEGORIES:Theatre
ATTACH;FMTTYPE=image/png:https://newvillagearts.org/wp-content/uploads/2024/07/LaHavana-show-title-clr.png
ORGANIZER;CN="New Village Arts":MAILTO:info@newvillagerts.org
END:VEVENT
BEGIN:VEVENT
DTSTART;TZID=America/Los_Angeles:20250404T183000
DTEND;TZID=America/Los_Angeles:20250404T183000
DTSTAMP:20260425T063324
CREATED:20250320T185452Z
LAST-MODIFIED:20250404T194253Z
UID:10004507-1743791400-1743791400@newvillagearts.org
SUMMARY:Pre-Show Music: Rhythm and Roots
DESCRIPTION:
URL:https://newvillagearts.org/event/joes-cafe/2025-04-04/
LOCATION:White Family Next Stage\, 2787 State Street\, Carlsbad\, CA\, 92008\, United States
CATEGORIES:Music
ATTACH;FMTTYPE=image/png:https://newvillagearts.org/wp-content/uploads/2025/03/Rhythm-and-Roots-FP.png
ORGANIZER;CN="New Village Arts":MAILTO:info@newvillagerts.org
END:VEVENT
BEGIN:VEVENT
DTSTART;TZID=America/Los_Angeles:20250404T193000
DTEND;TZID=America/Los_Angeles:20250404T193000
DTSTAMP:20260425T063324
CREATED:20240703T213323Z
LAST-MODIFIED:20250304T022811Z
UID:10003894-1743795000-1743795000@newvillagearts.org
SUMMARY:Sandra Delgado’s LA HAVANA MADRID
DESCRIPTION:
URL:https://newvillagearts.org/event/la-havana-madrid/2025-04-04/
LOCATION:Ray Charles Stage in the Conrad Prebys Theatre\, 2787 State Street\, Carlsbad\, 92008\, United States
CATEGORIES:Theatre
ATTACH;FMTTYPE=image/png:https://newvillagearts.org/wp-content/uploads/2024/07/LaHavana-show-title-clr.png
ORGANIZER;CN="New Village Arts":MAILTO:info@newvillagerts.org
END:VEVENT
BEGIN:VEVENT
DTSTART;TZID=America/Los_Angeles:20250404T213000
DTEND;TZID=America/Los_Angeles:20250404T213000
DTSTAMP:20260425T063324
CREATED:20250313T175324Z
LAST-MODIFIED:20250403T191605Z
UID:10004480-1743802200-1743802200@newvillagearts.org
SUMMARY:The After Party: La Habana
DESCRIPTION:
URL:https://newvillagearts.org/event/the-after-party/2025-04-04/
LOCATION:White Family Next Stage\, 2787 State Street\, Carlsbad\, CA\, 92008\, United States
CATEGORIES:Club Nights
ATTACH;FMTTYPE=image/png:https://newvillagearts.org/wp-content/uploads/2025/03/The-After-Party-Logo.png
ORGANIZER;CN="New Village Arts":MAILTO:info@newvillagerts.org
END:VEVENT
BEGIN:VEVENT
DTSTART;TZID=America/Los_Angeles:20250405T140000
DTEND;TZID=America/Los_Angeles:20250405T140000
DTSTAMP:20260425T063324
CREATED:20240703T213323Z
LAST-MODIFIED:20250304T022811Z
UID:10003895-1743861600-1743861600@newvillagearts.org
SUMMARY:Sandra Delgado’s LA HAVANA MADRID
DESCRIPTION:
URL:https://newvillagearts.org/event/la-havana-madrid/2025-04-05/1/
LOCATION:Ray Charles Stage in the Conrad Prebys Theatre\, 2787 State Street\, Carlsbad\, 92008\, United States
CATEGORIES:Theatre
ATTACH;FMTTYPE=image/png:https://newvillagearts.org/wp-content/uploads/2024/07/LaHavana-show-title-clr.png
ORGANIZER;CN="New Village Arts":MAILTO:info@newvillagerts.org
END:VEVENT
BEGIN:VEVENT
DTSTART;TZID=America/Los_Angeles:20250405T183000
DTEND;TZID=America/Los_Angeles:20250405T183000
DTSTAMP:20260425T063324
CREATED:20250320T185452Z
LAST-MODIFIED:20250404T194253Z
UID:10004508-1743877800-1743877800@newvillagearts.org
SUMMARY:Pre-Show Music: Rhythm and Roots
DESCRIPTION:
URL:https://newvillagearts.org/event/joes-cafe/2025-04-05/
LOCATION:White Family Next Stage\, 2787 State Street\, Carlsbad\, CA\, 92008\, United States
CATEGORIES:Music
ATTACH;FMTTYPE=image/png:https://newvillagearts.org/wp-content/uploads/2025/03/Rhythm-and-Roots-FP.png
ORGANIZER;CN="New Village Arts":MAILTO:info@newvillagerts.org
END:VEVENT
BEGIN:VEVENT
DTSTART;TZID=America/Los_Angeles:20250405T193000
DTEND;TZID=America/Los_Angeles:20250405T193000
DTSTAMP:20260425T063324
CREATED:20240703T213323Z
LAST-MODIFIED:20250304T022811Z
UID:10003896-1743881400-1743881400@newvillagearts.org
SUMMARY:Sandra Delgado’s LA HAVANA MADRID
DESCRIPTION:
URL:https://newvillagearts.org/event/la-havana-madrid/2025-04-05/2/
LOCATION:Ray Charles Stage in the Conrad Prebys Theatre\, 2787 State Street\, Carlsbad\, 92008\, United States
CATEGORIES:Theatre
ATTACH;FMTTYPE=image/png:https://newvillagearts.org/wp-content/uploads/2024/07/LaHavana-show-title-clr.png
ORGANIZER;CN="New Village Arts":MAILTO:info@newvillagerts.org
END:VEVENT
BEGIN:VEVENT
DTSTART;TZID=America/Los_Angeles:20250405T213000
DTEND;TZID=America/Los_Angeles:20250405T213000
DTSTAMP:20260425T063324
CREATED:20250313T175324Z
LAST-MODIFIED:20250403T191605Z
UID:10004481-1743888600-1743888600@newvillagearts.org
SUMMARY:The After Party: La Habana
DESCRIPTION:
URL:https://newvillagearts.org/event/the-after-party/2025-04-05/
LOCATION:White Family Next Stage\, 2787 State Street\, Carlsbad\, CA\, 92008\, United States
CATEGORIES:Club Nights
ATTACH;FMTTYPE=image/png:https://newvillagearts.org/wp-content/uploads/2025/03/The-After-Party-Logo.png
ORGANIZER;CN="New Village Arts":MAILTO:info@newvillagerts.org
END:VEVENT
BEGIN:VEVENT
DTSTART;TZID=America/Los_Angeles:20250406T130000
DTEND;TZID=America/Los_Angeles:20250406T130000
DTSTAMP:20260425T063324
CREATED:20250320T185452Z
LAST-MODIFIED:20250404T194253Z
UID:10004509-1743944400-1743944400@newvillagearts.org
SUMMARY:Pre-Show Music: Rhythm and Roots
DESCRIPTION:
URL:https://newvillagearts.org/event/joes-cafe/2025-04-06/
LOCATION:White Family Next Stage\, 2787 State Street\, Carlsbad\, CA\, 92008\, United States
CATEGORIES:Music
ATTACH;FMTTYPE=image/png:https://newvillagearts.org/wp-content/uploads/2025/03/Rhythm-and-Roots-FP.png
ORGANIZER;CN="New Village Arts":MAILTO:info@newvillagerts.org
END:VEVENT
BEGIN:VEVENT
DTSTART;TZID=America/Los_Angeles:20250406T140000
DTEND;TZID=America/Los_Angeles:20250406T140000
DTSTAMP:20260425T063324
CREATED:20240703T213323Z
LAST-MODIFIED:20250304T022811Z
UID:10003897-1743948000-1743948000@newvillagearts.org
SUMMARY:Sandra Delgado’s LA HAVANA MADRID
DESCRIPTION:
URL:https://newvillagearts.org/event/la-havana-madrid/2025-04-06/
LOCATION:Ray Charles Stage in the Conrad Prebys Theatre\, 2787 State Street\, Carlsbad\, 92008\, United States
CATEGORIES:Theatre
ATTACH;FMTTYPE=image/png:https://newvillagearts.org/wp-content/uploads/2024/07/LaHavana-show-title-clr.png
ORGANIZER;CN="New Village Arts":MAILTO:info@newvillagerts.org
END:VEVENT
BEGIN:VEVENT
DTSTART;TZID=America/Los_Angeles:20250406T160000
DTEND;TZID=America/Los_Angeles:20250406T160000
DTSTAMP:20260425T063324
CREATED:20250327T232827Z
LAST-MODIFIED:20250327T233110Z
UID:10004524-1743955200-1743955200@newvillagearts.org
SUMMARY:LA HAVANA MADRID Artist Talkback
DESCRIPTION:
URL:https://newvillagearts.org/event/la-havana-madrid-artist-talkback/2025-04-06/
LOCATION:Ray Charles Stage in the Conrad Prebys Theatre\, 2787 State Street\, Carlsbad\, 92008\, United States
ATTACH;FMTTYPE=image/png:https://newvillagearts.org/wp-content/uploads/2025/03/3.png
ORGANIZER;CN="New Village Arts":MAILTO:info@newvillagerts.org
END:VEVENT
BEGIN:VEVENT
DTSTART;TZID=America/Los_Angeles:20250407T183000
DTEND;TZID=America/Los_Angeles:20250407T200000
DTSTAMP:20260425T063324
CREATED:20250317T211739Z
LAST-MODIFIED:20250328T164829Z
UID:10004431-1744050600-1744056000@newvillagearts.org
SUMMARY:Monday Night Live!
DESCRIPTION:
URL:https://newvillagearts.org/event/monday-night-live-2/2025-04-07/
LOCATION:Sahm Foundation Arts Education Center\, 2787 State St\, Carlsbad\, CA\, 92008\, United States
CATEGORIES:Monday Night Live!
ATTACH;FMTTYPE=image/png:https://newvillagearts.org/wp-content/uploads/2021/10/MNL-2020-Color.png
ORGANIZER;CN="New Village Arts":MAILTO:info@newvillagerts.org
END:VEVENT
BEGIN:VEVENT
DTSTART;TZID=America/Los_Angeles:20250407T190000
DTEND;TZID=America/Los_Angeles:20250407T190000
DTSTAMP:20260425T063324
CREATED:20250307T215707Z
LAST-MODIFIED:20250316T211725Z
UID:10004475-1744052400-1744052400@newvillagearts.org
SUMMARY:Echoes of Courage: A Holocaust Education Project
DESCRIPTION:
URL:https://newvillagearts.org/event/echoes-of-courage/2025-04-07/
LOCATION:Ray Charles Stage in the Conrad Prebys Theatre\, 2787 State Street\, Carlsbad\, 92008\, United States
ATTACH;FMTTYPE=image/png:https://newvillagearts.org/wp-content/uploads/2025/03/Echoes-of-Courage-Website-Photos-1.png
ORGANIZER;CN="New Village Arts":MAILTO:info@newvillagerts.org
END:VEVENT
BEGIN:VEVENT
DTSTART;TZID=America/Los_Angeles:20250408T190000
DTEND;TZID=America/Los_Angeles:20250408T190000
DTSTAMP:20260425T063324
CREATED:20250307T215707Z
LAST-MODIFIED:20250316T211725Z
UID:10004476-1744138800-1744138800@newvillagearts.org
SUMMARY:Echoes of Courage: A Holocaust Education Project
DESCRIPTION:
URL:https://newvillagearts.org/event/echoes-of-courage/2025-04-08/
LOCATION:Ray Charles Stage in the Conrad Prebys Theatre\, 2787 State Street\, Carlsbad\, 92008\, United States
ATTACH;FMTTYPE=image/png:https://newvillagearts.org/wp-content/uploads/2025/03/Echoes-of-Courage-Website-Photos-1.png
ORGANIZER;CN="New Village Arts":MAILTO:info@newvillagerts.org
END:VEVENT
BEGIN:VEVENT
DTSTART;TZID=America/Los_Angeles:20250409T140000
DTEND;TZID=America/Los_Angeles:20250409T140000
DTSTAMP:20260425T063324
CREATED:20240703T213323Z
LAST-MODIFIED:20250304T022811Z
UID:10003898-1744207200-1744207200@newvillagearts.org
SUMMARY:Sandra Delgado’s LA HAVANA MADRID
DESCRIPTION:
URL:https://newvillagearts.org/event/la-havana-madrid/2025-04-09/
LOCATION:Ray Charles Stage in the Conrad Prebys Theatre\, 2787 State Street\, Carlsbad\, 92008\, United States
CATEGORIES:Theatre
ATTACH;FMTTYPE=image/png:https://newvillagearts.org/wp-content/uploads/2024/07/LaHavana-show-title-clr.png
ORGANIZER;CN="New Village Arts":MAILTO:info@newvillagerts.org
END:VEVENT
BEGIN:VEVENT
DTSTART;TZID=America/Los_Angeles:20250409T183000
DTEND;TZID=America/Los_Angeles:20250409T200000
DTSTAMP:20260425T063324
CREATED:20250115T010050Z
LAST-MODIFIED:20260130T010633Z
UID:10004151-1744223400-1744228800@newvillagearts.org
SUMMARY:Drop-in Improv with Patrick McInnis
DESCRIPTION:
URL:https://newvillagearts.org/event/drop-in-improv-with-patrick-mcinnis/2025-04-09/
LOCATION:Sahm Foundation Arts Education Center\, 2787 State St\, Carlsbad\, CA\, 92008\, United States
CATEGORIES:Improv
ATTACH;FMTTYPE=image/png:https://newvillagearts.org/wp-content/uploads/2024/12/Wednesday-Improv-FP-1.png
ORGANIZER;CN="New Village Arts":MAILTO:info@newvillagerts.org
END:VEVENT
BEGIN:VEVENT
DTSTART;TZID=America/Los_Angeles:20250410T193000
DTEND;TZID=America/Los_Angeles:20250410T193000
DTSTAMP:20260425T063324
CREATED:20240703T213323Z
LAST-MODIFIED:20250304T022811Z
UID:10003899-1744313400-1744313400@newvillagearts.org
SUMMARY:Sandra Delgado’s LA HAVANA MADRID
DESCRIPTION:
URL:https://newvillagearts.org/event/la-havana-madrid/2025-04-10/
LOCATION:Ray Charles Stage in the Conrad Prebys Theatre\, 2787 State Street\, Carlsbad\, 92008\, United States
CATEGORIES:Theatre
ATTACH;FMTTYPE=image/png:https://newvillagearts.org/wp-content/uploads/2024/07/LaHavana-show-title-clr.png
ORGANIZER;CN="New Village Arts":MAILTO:info@newvillagerts.org
END:VEVENT
BEGIN:VEVENT
DTSTART;TZID=America/Los_Angeles:20250411T193000
DTEND;TZID=America/Los_Angeles:20250411T193000
DTSTAMP:20260425T063324
CREATED:20240703T213323Z
LAST-MODIFIED:20250304T022811Z
UID:10003900-1744399800-1744399800@newvillagearts.org
SUMMARY:Sandra Delgado’s LA HAVANA MADRID
DESCRIPTION:
URL:https://newvillagearts.org/event/la-havana-madrid/2025-04-11/
LOCATION:Ray Charles Stage in the Conrad Prebys Theatre\, 2787 State Street\, Carlsbad\, 92008\, United States
CATEGORIES:Theatre
ATTACH;FMTTYPE=image/png:https://newvillagearts.org/wp-content/uploads/2024/07/LaHavana-show-title-clr.png
ORGANIZER;CN="New Village Arts":MAILTO:info@newvillagerts.org
END:VEVENT
BEGIN:VEVENT
DTSTART;TZID=America/Los_Angeles:20250412T140000
DTEND;TZID=America/Los_Angeles:20250412T140000
DTSTAMP:20260425T063324
CREATED:20240703T213323Z
LAST-MODIFIED:20250304T022811Z
UID:10003901-1744466400-1744466400@newvillagearts.org
SUMMARY:Sandra Delgado’s LA HAVANA MADRID
DESCRIPTION:
URL:https://newvillagearts.org/event/la-havana-madrid/2025-04-12/1/
LOCATION:Ray Charles Stage in the Conrad Prebys Theatre\, 2787 State Street\, Carlsbad\, 92008\, United States
CATEGORIES:Theatre
ATTACH;FMTTYPE=image/png:https://newvillagearts.org/wp-content/uploads/2024/07/LaHavana-show-title-clr.png
ORGANIZER;CN="New Village Arts":MAILTO:info@newvillagerts.org
END:VEVENT
BEGIN:VEVENT
DTSTART;TZID=America/Los_Angeles:20250412T193000
DTEND;TZID=America/Los_Angeles:20250412T193000
DTSTAMP:20260425T063324
CREATED:20240703T213323Z
LAST-MODIFIED:20250304T022811Z
UID:10003902-1744486200-1744486200@newvillagearts.org
SUMMARY:Sandra Delgado’s LA HAVANA MADRID
DESCRIPTION:
URL:https://newvillagearts.org/event/la-havana-madrid/2025-04-12/2/
LOCATION:Ray Charles Stage in the Conrad Prebys Theatre\, 2787 State Street\, Carlsbad\, 92008\, United States
CATEGORIES:Theatre
ATTACH;FMTTYPE=image/png:https://newvillagearts.org/wp-content/uploads/2024/07/LaHavana-show-title-clr.png
ORGANIZER;CN="New Village Arts":MAILTO:info@newvillagerts.org
END:VEVENT
BEGIN:VEVENT
DTSTART;TZID=America/Los_Angeles:20250413T120000
DTEND;TZID=America/Los_Angeles:20250413T120000
DTSTAMP:20260425T063324
CREATED:20250212T215502Z
LAST-MODIFIED:20250304T022745Z
UID:10003903-1744545600-1744545600@newvillagearts.org
SUMMARY:Sandra Delgado’s LA HAVANA MADRID
DESCRIPTION:
URL:https://newvillagearts.org/event/la-havana-madrid-2/
LOCATION:Ray Charles Stage in the Conrad Prebys Theatre\, 2787 State Street\, Carlsbad\, 92008\, United States
CATEGORIES:Theatre
ATTACH;FMTTYPE=image/png:https://newvillagearts.org/wp-content/uploads/2024/07/LaHavana-show-title-clr.png
ORGANIZER;CN="New Village Arts":MAILTO:info@newvillagerts.org
END:VEVENT
BEGIN:VEVENT
DTSTART;TZID=America/Los_Angeles:20250413T173000
DTEND;TZID=America/Los_Angeles:20250413T213000
DTSTAMP:20260425T063324
CREATED:20250213T205321Z
LAST-MODIFIED:20250213T205321Z
UID:10004437-1744565400-1744579800@newvillagearts.org
SUMMARY:Havana Nights - NVA Annual Gala
DESCRIPTION:
URL:https://newvillagearts.org/event/havana-nights-nva-annual-gala/
LOCATION:New Village Arts\, 2787 State St\, Carlsbad\, CA\, 92008\, United States
CATEGORIES:Fundraiser
ATTACH;FMTTYPE=image/png:https://newvillagearts.org/wp-content/uploads/2025/02/Gala-Havana-Nights-website-event-graphic-2.png
ORGANIZER;CN="New Village Arts":MAILTO:info@newvillagerts.org
END:VEVENT
BEGIN:VEVENT
DTSTART;TZID=America/Los_Angeles:20250414T183000
DTEND;TZID=America/Los_Angeles:20250414T200000
DTSTAMP:20260425T063324
CREATED:20250317T211739Z
LAST-MODIFIED:20250328T164829Z
UID:10004435-1744655400-1744660800@newvillagearts.org
SUMMARY:Monday Night Live!
DESCRIPTION:
URL:https://newvillagearts.org/event/monday-night-live-2/2025-04-14/
LOCATION:Sahm Foundation Arts Education Center\, 2787 State St\, Carlsbad\, CA\, 92008\, United States
CATEGORIES:Monday Night Live!
ATTACH;FMTTYPE=image/png:https://newvillagearts.org/wp-content/uploads/2021/10/MNL-2020-Color.png
ORGANIZER;CN="New Village Arts":MAILTO:info@newvillagerts.org
END:VEVENT
BEGIN:VEVENT
DTSTART;TZID=America/Los_Angeles:20250416T140000
DTEND;TZID=America/Los_Angeles:20250416T140000
DTSTAMP:20260425T063324
CREATED:20240703T213323Z
LAST-MODIFIED:20250304T022811Z
UID:10003904-1744812000-1744812000@newvillagearts.org
SUMMARY:Sandra Delgado’s LA HAVANA MADRID
DESCRIPTION:
URL:https://newvillagearts.org/event/la-havana-madrid/2025-04-16/
LOCATION:Ray Charles Stage in the Conrad Prebys Theatre\, 2787 State Street\, Carlsbad\, 92008\, United States
CATEGORIES:Theatre
ATTACH;FMTTYPE=image/png:https://newvillagearts.org/wp-content/uploads/2024/07/LaHavana-show-title-clr.png
ORGANIZER;CN="New Village Arts":MAILTO:info@newvillagerts.org
END:VEVENT
BEGIN:VEVENT
DTSTART;TZID=America/Los_Angeles:20250416T183000
DTEND;TZID=America/Los_Angeles:20250416T200000
DTSTAMP:20260425T063324
CREATED:20250115T010050Z
LAST-MODIFIED:20260130T010633Z
UID:10004152-1744828200-1744833600@newvillagearts.org
SUMMARY:Drop-in Improv with Patrick McInnis
DESCRIPTION:
URL:https://newvillagearts.org/event/drop-in-improv-with-patrick-mcinnis/2025-04-16/
LOCATION:Sahm Foundation Arts Education Center\, 2787 State St\, Carlsbad\, CA\, 92008\, United States
CATEGORIES:Improv
ATTACH;FMTTYPE=image/png:https://newvillagearts.org/wp-content/uploads/2024/12/Wednesday-Improv-FP-1.png
ORGANIZER;CN="New Village Arts":MAILTO:info@newvillagerts.org
END:VEVENT
BEGIN:VEVENT
DTSTART;TZID=America/Los_Angeles:20250417T193000
DTEND;TZID=America/Los_Angeles:20250417T193000
DTSTAMP:20260425T063324
CREATED:20240703T213323Z
LAST-MODIFIED:20250304T022811Z
UID:10003905-1744918200-1744918200@newvillagearts.org
SUMMARY:Sandra Delgado’s LA HAVANA MADRID
DESCRIPTION:
URL:https://newvillagearts.org/event/la-havana-madrid/2025-04-17/
LOCATION:Ray Charles Stage in the Conrad Prebys Theatre\, 2787 State Street\, Carlsbad\, 92008\, United States
CATEGORIES:Theatre
ATTACH;FMTTYPE=image/png:https://newvillagearts.org/wp-content/uploads/2024/07/LaHavana-show-title-clr.png
ORGANIZER;CN="New Village Arts":MAILTO:info@newvillagerts.org
END:VEVENT
BEGIN:VEVENT
DTSTART;TZID=America/Los_Angeles:20250418T193000
DTEND;TZID=America/Los_Angeles:20250418T193000
DTSTAMP:20260425T063324
CREATED:20240703T213323Z
LAST-MODIFIED:20250304T022811Z
UID:10003906-1745004600-1745004600@newvillagearts.org
SUMMARY:Sandra Delgado’s LA HAVANA MADRID
DESCRIPTION:
URL:https://newvillagearts.org/event/la-havana-madrid/2025-04-18/
LOCATION:Ray Charles Stage in the Conrad Prebys Theatre\, 2787 State Street\, Carlsbad\, 92008\, United States
CATEGORIES:Theatre
ATTACH;FMTTYPE=image/png:https://newvillagearts.org/wp-content/uploads/2024/07/LaHavana-show-title-clr.png
ORGANIZER;CN="New Village Arts":MAILTO:info@newvillagerts.org
END:VEVENT
BEGIN:VEVENT
DTSTART;TZID=America/Los_Angeles:20250418T213000
DTEND;TZID=America/Los_Angeles:20250418T213000
DTSTAMP:20260425T063324
CREATED:20250313T175324Z
LAST-MODIFIED:20250403T191605Z
UID:10004482-1745011800-1745011800@newvillagearts.org
SUMMARY:The After Party: La Habana
DESCRIPTION:
URL:https://newvillagearts.org/event/the-after-party/2025-04-18/
LOCATION:White Family Next Stage\, 2787 State Street\, Carlsbad\, CA\, 92008\, United States
CATEGORIES:Club Nights
ATTACH;FMTTYPE=image/png:https://newvillagearts.org/wp-content/uploads/2025/03/The-After-Party-Logo.png
ORGANIZER;CN="New Village Arts":MAILTO:info@newvillagerts.org
END:VEVENT
END:VCALENDAR