BEGIN:VCALENDAR
VERSION:2.0
PRODID:-//New Village Arts - ECPv6.15.20//NONSGML v1.0//EN
CALSCALE:GREGORIAN
METHOD:PUBLISH
X-WR-CALNAME:New Village Arts
X-ORIGINAL-URL:https://newvillagearts.org
X-WR-CALDESC:Events for New Village Arts
REFRESH-INTERVAL;VALUE=DURATION:PT1H
X-Robots-Tag:noindex
X-PUBLISHED-TTL:PT1H
BEGIN:VTIMEZONE
TZID:America/Los_Angeles
BEGIN:DAYLIGHT
TZOFFSETFROM:-0800
TZOFFSETTO:-0700
TZNAME:PDT
DTSTART:20230312T100000
END:DAYLIGHT
BEGIN:STANDARD
TZOFFSETFROM:-0700
TZOFFSETTO:-0800
TZNAME:PST
DTSTART:20231105T090000
END:STANDARD
BEGIN:DAYLIGHT
TZOFFSETFROM:-0800
TZOFFSETTO:-0700
TZNAME:PDT
DTSTART:20240310T100000
END:DAYLIGHT
BEGIN:STANDARD
TZOFFSETFROM:-0700
TZOFFSETTO:-0800
TZNAME:PST
DTSTART:20241103T090000
END:STANDARD
BEGIN:DAYLIGHT
TZOFFSETFROM:-0800
TZOFFSETTO:-0700
TZNAME:PDT
DTSTART:20250309T100000
END:DAYLIGHT
BEGIN:STANDARD
TZOFFSETFROM:-0700
TZOFFSETTO:-0800
TZNAME:PST
DTSTART:20251102T090000
END:STANDARD
END:VTIMEZONE
BEGIN:VEVENT
DTSTART;TZID=America/Los_Angeles:20240903T190000
DTEND;TZID=America/Los_Angeles:20240903T190000
DTSTAMP:20260422T031910
CREATED:20240816T204140Z
LAST-MODIFIED:20240826T235733Z
UID:10003978-1725390000-1725390000@newvillagearts.org
SUMMARY:Sounds Funny
DESCRIPTION:
URL:https://newvillagearts.org/event/sounds-funny/
LOCATION:2787 State St\, Carlsbad\, CA\, 92008\, United States
CATEGORIES:Comedy,Music
ATTACH;FMTTYPE=image/png:https://newvillagearts.org/wp-content/uploads/2024/08/Sounds-Funny-3-e1723840957538.png
ORGANIZER;CN="New Village Arts":MAILTO:info@newvillagerts.org
END:VEVENT
BEGIN:VEVENT
DTSTART;TZID=America/Los_Angeles:20240904T140000
DTEND;TZID=America/Los_Angeles:20240904T140000
DTSTAMP:20260422T031910
CREATED:20240703T192425Z
LAST-MODIFIED:20240807T213751Z
UID:10003797-1725458400-1725458400@newvillagearts.org
SUMMARY:8-Track: The Sounds of the '70s
DESCRIPTION:
URL:https://newvillagearts.org/event/8-track-the-sounds-of-the-70s/2024-09-04/
LOCATION:Ray Charles Stage in the Conrad Prebys Theatre\, 2787 State Street\, Carlsbad\, 92008\, United States
ATTACH;FMTTYPE=image/png:https://newvillagearts.org/wp-content/uploads/2024/07/8Track-show-title-clr.png
ORGANIZER;CN="New Village Arts":MAILTO:info@newvillagerts.org
END:VEVENT
BEGIN:VEVENT
DTSTART;TZID=America/Los_Angeles:20240904T183000
DTEND;TZID=America/Los_Angeles:20240904T200000
DTSTAMP:20260422T031910
CREATED:20240821T011352Z
LAST-MODIFIED:20241009T190006Z
UID:10003990-1725474600-1725480000@newvillagearts.org
SUMMARY:Improv with Patrick McInnis
DESCRIPTION:
URL:https://newvillagearts.org/event/improv-with-patrick-mcinnis-fall24/2024-09-04/
LOCATION:Sahm Foundation Arts Education Center\, 2787 State St\, Carlsbad\, CA\, 92008\, United States
CATEGORIES:Classes,Education,Improv
ORGANIZER;CN="New Village Arts":MAILTO:info@newvillagerts.org
END:VEVENT
BEGIN:VEVENT
DTSTART;TZID=America/Los_Angeles:20240905T193000
DTEND;TZID=America/Los_Angeles:20240905T193000
DTSTAMP:20260422T031910
CREATED:20240703T192425Z
LAST-MODIFIED:20240807T213751Z
UID:10003798-1725564600-1725564600@newvillagearts.org
SUMMARY:8-Track: The Sounds of the '70s
DESCRIPTION:
URL:https://newvillagearts.org/event/8-track-the-sounds-of-the-70s/2024-09-05/
LOCATION:Ray Charles Stage in the Conrad Prebys Theatre\, 2787 State Street\, Carlsbad\, 92008\, United States
ATTACH;FMTTYPE=image/png:https://newvillagearts.org/wp-content/uploads/2024/07/8Track-show-title-clr.png
ORGANIZER;CN="New Village Arts":MAILTO:info@newvillagerts.org
END:VEVENT
BEGIN:VEVENT
DTSTART;TZID=America/Los_Angeles:20240906T180000
DTEND;TZID=America/Los_Angeles:20240906T190000
DTSTAMP:20260422T031910
CREATED:20240711T201135Z
LAST-MODIFIED:20240711T201135Z
UID:10003921-1725645600-1725649200@newvillagearts.org
SUMMARY:That’s so 70’s Karaoke
DESCRIPTION:
URL:https://newvillagearts.org/event/thats-so-70s-karaoke/2024-09-06/
LOCATION:2787 State St\, Carlsbad\, CA\, 92008\, United States
ORGANIZER;CN="New Village Arts":MAILTO:info@newvillagerts.org
END:VEVENT
BEGIN:VEVENT
DTSTART;TZID=America/Los_Angeles:20240906T193000
DTEND;TZID=America/Los_Angeles:20240906T193000
DTSTAMP:20260422T031910
CREATED:20240711T201151Z
LAST-MODIFIED:20240807T213823Z
UID:10003927-1725651000-1725651000@newvillagearts.org
SUMMARY:8-Track: The Sounds of the '70s with Karaoke Pre Show
DESCRIPTION:
URL:https://newvillagearts.org/event/8-track-the-sounds-of-the-70s-karaoke/2024-09-06/
LOCATION:Ray Charles Stage in the Conrad Prebys Theatre\, 2787 State Street\, Carlsbad\, 92008\, United States
ATTACH;FMTTYPE=image/png:https://newvillagearts.org/wp-content/uploads/2024/07/8Track-show-title-clr.png
ORGANIZER;CN="New Village Arts":MAILTO:info@newvillagerts.org
END:VEVENT
BEGIN:VEVENT
DTSTART;TZID=America/Los_Angeles:20240907T140000
DTEND;TZID=America/Los_Angeles:20240907T140000
DTSTAMP:20260422T031910
CREATED:20240703T192425Z
LAST-MODIFIED:20240807T213751Z
UID:10003800-1725717600-1725717600@newvillagearts.org
SUMMARY:8-Track: The Sounds of the '70s
DESCRIPTION:
URL:https://newvillagearts.org/event/8-track-the-sounds-of-the-70s/2024-09-07/
LOCATION:Ray Charles Stage in the Conrad Prebys Theatre\, 2787 State Street\, Carlsbad\, 92008\, United States
ATTACH;FMTTYPE=image/png:https://newvillagearts.org/wp-content/uploads/2024/07/8Track-show-title-clr.png
ORGANIZER;CN="New Village Arts":MAILTO:info@newvillagerts.org
END:VEVENT
BEGIN:VEVENT
DTSTART;TZID=America/Los_Angeles:20240907T180000
DTEND;TZID=America/Los_Angeles:20240907T190000
DTSTAMP:20260422T031910
CREATED:20240711T201135Z
LAST-MODIFIED:20240711T201135Z
UID:10003922-1725732000-1725735600@newvillagearts.org
SUMMARY:That’s so 70’s Karaoke
DESCRIPTION:
URL:https://newvillagearts.org/event/thats-so-70s-karaoke/2024-09-07/
LOCATION:2787 State St\, Carlsbad\, CA\, 92008\, United States
ORGANIZER;CN="New Village Arts":MAILTO:info@newvillagerts.org
END:VEVENT
BEGIN:VEVENT
DTSTART;TZID=America/Los_Angeles:20240907T193000
DTEND;TZID=America/Los_Angeles:20240907T193000
DTSTAMP:20260422T031910
CREATED:20240711T201151Z
LAST-MODIFIED:20240807T213823Z
UID:10003928-1725737400-1725737400@newvillagearts.org
SUMMARY:8-Track: The Sounds of the '70s with Karaoke Pre Show
DESCRIPTION:
URL:https://newvillagearts.org/event/8-track-the-sounds-of-the-70s-karaoke/2024-09-07/
LOCATION:Ray Charles Stage in the Conrad Prebys Theatre\, 2787 State Street\, Carlsbad\, 92008\, United States
ATTACH;FMTTYPE=image/png:https://newvillagearts.org/wp-content/uploads/2024/07/8Track-show-title-clr.png
ORGANIZER;CN="New Village Arts":MAILTO:info@newvillagerts.org
END:VEVENT
BEGIN:VEVENT
DTSTART;TZID=America/Los_Angeles:20240908T140000
DTEND;TZID=America/Los_Angeles:20240908T140000
DTSTAMP:20260422T031910
CREATED:20240703T192425Z
LAST-MODIFIED:20240807T213751Z
UID:10003802-1725804000-1725804000@newvillagearts.org
SUMMARY:8-Track: The Sounds of the '70s
DESCRIPTION:
URL:https://newvillagearts.org/event/8-track-the-sounds-of-the-70s/2024-09-08/
LOCATION:Ray Charles Stage in the Conrad Prebys Theatre\, 2787 State Street\, Carlsbad\, 92008\, United States
ATTACH;FMTTYPE=image/png:https://newvillagearts.org/wp-content/uploads/2024/07/8Track-show-title-clr.png
ORGANIZER;CN="New Village Arts":MAILTO:info@newvillagerts.org
END:VEVENT
BEGIN:VEVENT
DTSTART;TZID=America/Los_Angeles:20240908T153000
DTEND;TZID=America/Los_Angeles:20240908T163000
DTSTAMP:20260422T031910
CREATED:20240813T001016Z
LAST-MODIFIED:20240814T220311Z
UID:10003971-1725809400-1725813000@newvillagearts.org
SUMMARY:8-TRACK Artist Talkback
DESCRIPTION:
URL:https://newvillagearts.org/event/artist-talkback/2024-09-08/
LOCATION:2787 State St\, Carlsbad\, CA\, 92008\, United States
ORGANIZER;CN="New Village Arts":MAILTO:info@newvillagerts.org
END:VEVENT
BEGIN:VEVENT
DTSTART;TZID=America/Los_Angeles:20240909T193000
DTEND;TZID=America/Los_Angeles:20240909T193000
DTSTAMP:20260422T031910
CREATED:20240825T003142Z
LAST-MODIFIED:20240825T003301Z
UID:10004008-1725910200-1725910200@newvillagearts.org
SUMMARY:Carlsbad Playreaders: Potus; Or\, Behind Every Great Dumb*** Are Seven Women Trying to Keep Him Alive
DESCRIPTION:
URL:https://newvillagearts.org/event/potus-or-behind-every-great-dumb-are-seven-women-trying-to-keep-him-alive/
LOCATION:Ray Charles Stage in the Conrad Prebys Theatre\, 2787 State Street\, Carlsbad\, 92008\, United States
ORGANIZER;CN="New Village Arts":MAILTO:info@newvillagerts.org
END:VEVENT
BEGIN:VEVENT
DTSTART;TZID=America/Los_Angeles:20240911T140000
DTEND;TZID=America/Los_Angeles:20240911T140000
DTSTAMP:20260422T031910
CREATED:20240703T192425Z
LAST-MODIFIED:20240807T213751Z
UID:10003803-1726063200-1726063200@newvillagearts.org
SUMMARY:8-Track: The Sounds of the '70s
DESCRIPTION:
URL:https://newvillagearts.org/event/8-track-the-sounds-of-the-70s/2024-09-11/
LOCATION:Ray Charles Stage in the Conrad Prebys Theatre\, 2787 State Street\, Carlsbad\, 92008\, United States
ATTACH;FMTTYPE=image/png:https://newvillagearts.org/wp-content/uploads/2024/07/8Track-show-title-clr.png
ORGANIZER;CN="New Village Arts":MAILTO:info@newvillagerts.org
END:VEVENT
BEGIN:VEVENT
DTSTART;TZID=America/Los_Angeles:20240911T183000
DTEND;TZID=America/Los_Angeles:20240911T200000
DTSTAMP:20260422T031910
CREATED:20240821T011352Z
LAST-MODIFIED:20241009T190006Z
UID:10003991-1726079400-1726084800@newvillagearts.org
SUMMARY:Improv with Patrick McInnis
DESCRIPTION:
URL:https://newvillagearts.org/event/improv-with-patrick-mcinnis-fall24/2024-09-11/
LOCATION:Sahm Foundation Arts Education Center\, 2787 State St\, Carlsbad\, CA\, 92008\, United States
CATEGORIES:Classes,Education,Improv
ORGANIZER;CN="New Village Arts":MAILTO:info@newvillagerts.org
END:VEVENT
BEGIN:VEVENT
DTSTART;TZID=America/Los_Angeles:20240912T193000
DTEND;TZID=America/Los_Angeles:20240912T193000
DTSTAMP:20260422T031910
CREATED:20240703T192425Z
LAST-MODIFIED:20240807T213751Z
UID:10003804-1726169400-1726169400@newvillagearts.org
SUMMARY:8-Track: The Sounds of the '70s
DESCRIPTION:
URL:https://newvillagearts.org/event/8-track-the-sounds-of-the-70s/2024-09-12/
LOCATION:Ray Charles Stage in the Conrad Prebys Theatre\, 2787 State Street\, Carlsbad\, 92008\, United States
ATTACH;FMTTYPE=image/png:https://newvillagearts.org/wp-content/uploads/2024/07/8Track-show-title-clr.png
ORGANIZER;CN="New Village Arts":MAILTO:info@newvillagerts.org
END:VEVENT
BEGIN:VEVENT
DTSTART;TZID=America/Los_Angeles:20240913T180000
DTEND;TZID=America/Los_Angeles:20240913T190000
DTSTAMP:20260422T031911
CREATED:20240711T201135Z
LAST-MODIFIED:20240711T201135Z
UID:10003923-1726250400-1726254000@newvillagearts.org
SUMMARY:That’s so 70’s Karaoke
DESCRIPTION:
URL:https://newvillagearts.org/event/thats-so-70s-karaoke/2024-09-13/
LOCATION:2787 State St\, Carlsbad\, CA\, 92008\, United States
ORGANIZER;CN="New Village Arts":MAILTO:info@newvillagerts.org
END:VEVENT
BEGIN:VEVENT
DTSTART;TZID=America/Los_Angeles:20240913T193000
DTEND;TZID=America/Los_Angeles:20240913T193000
DTSTAMP:20260422T031911
CREATED:20240711T201151Z
LAST-MODIFIED:20240807T213823Z
UID:10003929-1726255800-1726255800@newvillagearts.org
SUMMARY:8-Track: The Sounds of the '70s with Karaoke Pre Show
DESCRIPTION:
URL:https://newvillagearts.org/event/8-track-the-sounds-of-the-70s-karaoke/2024-09-13/
LOCATION:Ray Charles Stage in the Conrad Prebys Theatre\, 2787 State Street\, Carlsbad\, 92008\, United States
ATTACH;FMTTYPE=image/png:https://newvillagearts.org/wp-content/uploads/2024/07/8Track-show-title-clr.png
ORGANIZER;CN="New Village Arts":MAILTO:info@newvillagerts.org
END:VEVENT
BEGIN:VEVENT
DTSTART;TZID=America/Los_Angeles:20240914T140000
DTEND;TZID=America/Los_Angeles:20240914T140000
DTSTAMP:20260422T031911
CREATED:20240703T192425Z
LAST-MODIFIED:20240807T213751Z
UID:10003933-1726322400-1726322400@newvillagearts.org
SUMMARY:8-Track: The Sounds of the '70s
DESCRIPTION:
URL:https://newvillagearts.org/event/8-track-the-sounds-of-the-70s/2024-09-14/
LOCATION:Ray Charles Stage in the Conrad Prebys Theatre\, 2787 State Street\, Carlsbad\, 92008\, United States
ATTACH;FMTTYPE=image/png:https://newvillagearts.org/wp-content/uploads/2024/07/8Track-show-title-clr.png
ORGANIZER;CN="New Village Arts":MAILTO:info@newvillagerts.org
END:VEVENT
BEGIN:VEVENT
DTSTART;TZID=America/Los_Angeles:20240914T180000
DTEND;TZID=America/Los_Angeles:20240914T190000
DTSTAMP:20260422T031911
CREATED:20240711T201135Z
LAST-MODIFIED:20240711T201135Z
UID:10003924-1726336800-1726340400@newvillagearts.org
SUMMARY:That’s so 70’s Karaoke
DESCRIPTION:
URL:https://newvillagearts.org/event/thats-so-70s-karaoke/2024-09-14/
LOCATION:2787 State St\, Carlsbad\, CA\, 92008\, United States
ORGANIZER;CN="New Village Arts":MAILTO:info@newvillagerts.org
END:VEVENT
BEGIN:VEVENT
DTSTART;TZID=America/Los_Angeles:20240914T193000
DTEND;TZID=America/Los_Angeles:20240914T193000
DTSTAMP:20260422T031911
CREATED:20240711T201151Z
LAST-MODIFIED:20240807T213823Z
UID:10003934-1726342200-1726342200@newvillagearts.org
SUMMARY:8-Track: The Sounds of the '70s with Karaoke Pre Show
DESCRIPTION:
URL:https://newvillagearts.org/event/8-track-the-sounds-of-the-70s-karaoke/2024-09-14/
LOCATION:Ray Charles Stage in the Conrad Prebys Theatre\, 2787 State Street\, Carlsbad\, 92008\, United States
ATTACH;FMTTYPE=image/png:https://newvillagearts.org/wp-content/uploads/2024/07/8Track-show-title-clr.png
ORGANIZER;CN="New Village Arts":MAILTO:info@newvillagerts.org
END:VEVENT
BEGIN:VEVENT
DTSTART;TZID=America/Los_Angeles:20240914T200000
DTEND;TZID=America/Los_Angeles:20240914T200000
DTSTAMP:20260422T031911
CREATED:20240812T214312Z
LAST-MODIFIED:20241106T192358Z
UID:10003963-1726344000-1726344000@newvillagearts.org
SUMMARY:Voices of Poetry
DESCRIPTION:
URL:https://newvillagearts.org/event/voices-of-poetry/2024-09-14/
LOCATION:2787 State St\, Carlsbad\, CA\, 92008\, United States
CATEGORIES:Comedy,dance,Music,Theatre
ORGANIZER;CN="New Village Arts":MAILTO:info@newvillagerts.org
END:VEVENT
BEGIN:VEVENT
DTSTART;TZID=America/Los_Angeles:20240915T140000
DTEND;TZID=America/Los_Angeles:20240915T140000
DTSTAMP:20260422T031911
CREATED:20240703T192425Z
LAST-MODIFIED:20240807T213751Z
UID:10003808-1726408800-1726408800@newvillagearts.org
SUMMARY:8-Track: The Sounds of the '70s
DESCRIPTION:
URL:https://newvillagearts.org/event/8-track-the-sounds-of-the-70s/2024-09-15/
LOCATION:Ray Charles Stage in the Conrad Prebys Theatre\, 2787 State Street\, Carlsbad\, 92008\, United States
ATTACH;FMTTYPE=image/png:https://newvillagearts.org/wp-content/uploads/2024/07/8Track-show-title-clr.png
ORGANIZER;CN="New Village Arts":MAILTO:info@newvillagerts.org
END:VEVENT
BEGIN:VEVENT
DTSTART;TZID=America/Los_Angeles:20240915T190000
DTEND;TZID=America/Los_Angeles:20240915T190000
DTSTAMP:20260422T031911
CREATED:20240904T203153Z
LAST-MODIFIED:20240904T204545Z
UID:10004011-1726426800-1726426800@newvillagearts.org
SUMMARY:JFEST's The Whole Megillah presents "Un Hombre\, A Golem Story"
DESCRIPTION:
URL:https://newvillagearts.org/event/jfests-the-whole-megillah-presents-un-hombre-a-golem-story/
LOCATION:Ray Charles Stage in the Conrad Prebys Theatre\, 2787 State Street\, Carlsbad\, 92008\, United States
ORGANIZER;CN="New Village Arts":MAILTO:info@newvillagerts.org
END:VEVENT
BEGIN:VEVENT
DTSTART;TZID=America/Los_Angeles:20240916T180000
DTEND;TZID=America/Los_Angeles:20240916T193000
DTSTAMP:20260422T031911
CREATED:20240827T202752Z
LAST-MODIFIED:20240827T203337Z
UID:10004009-1726509600-1726515000@newvillagearts.org
SUMMARY:Film Club: STAMPED FROM THE BEGINNING
DESCRIPTION:
URL:https://newvillagearts.org/event/film-club-september/
LOCATION:Virtual\, CA\, 92008\, United States
CATEGORIES:Film Club,Free Event!
ATTACH;FMTTYPE=image/png:https://newvillagearts.org/wp-content/uploads/2024/05/Website-Featured-Images.png
END:VEVENT
BEGIN:VEVENT
DTSTART;TZID=America/Los_Angeles:20240916T200000
DTEND;TZID=America/Los_Angeles:20240916T200000
DTSTAMP:20260422T031911
CREATED:20240905T002849Z
LAST-MODIFIED:20240910T204733Z
UID:10004013-1726516800-1726516800@newvillagearts.org
SUMMARY:RIGHT HAND LEFT HAND
DESCRIPTION:
URL:https://newvillagearts.org/event/right-hand-left-hand/
LOCATION:Ray Charles Stage in the Conrad Prebys Theatre\, 2787 State Street\, Carlsbad\, 92008\, United States
CATEGORIES:Free Event!,Play Reading
ORGANIZER;CN="New Village Arts":MAILTO:info@newvillagerts.org
END:VEVENT
BEGIN:VEVENT
DTSTART;TZID=America/Los_Angeles:20240918T183000
DTEND;TZID=America/Los_Angeles:20240918T200000
DTSTAMP:20260422T031911
CREATED:20240821T011352Z
LAST-MODIFIED:20241009T190006Z
UID:10003992-1726684200-1726689600@newvillagearts.org
SUMMARY:Improv with Patrick McInnis
DESCRIPTION:
URL:https://newvillagearts.org/event/improv-with-patrick-mcinnis-fall24/2024-09-18/
LOCATION:Sahm Foundation Arts Education Center\, 2787 State St\, Carlsbad\, CA\, 92008\, United States
CATEGORIES:Classes,Education,Improv
ORGANIZER;CN="New Village Arts":MAILTO:info@newvillagerts.org
END:VEVENT
BEGIN:VEVENT
DTSTART;TZID=America/Los_Angeles:20240921T093000
DTEND;TZID=America/Los_Angeles:20240921T113000
DTSTAMP:20260422T031911
CREATED:20240906T211123Z
LAST-MODIFIED:20240919T174737Z
UID:10004017-1726911000-1726918200@newvillagearts.org
SUMMARY:Level 1 Improv: Foundations of Improvisation
DESCRIPTION:
URL:https://newvillagearts.org/event/level-1-improv-foundations-of-improvisation/2024-09-21/
LOCATION:Sahm Foundation Arts Education Center\, 2787 State St\, Carlsbad\, CA\, 92008\, United States
CATEGORIES:Classes,Education,Improv
ORGANIZER;CN="New Village Arts":MAILTO:info@newvillagerts.org
END:VEVENT
BEGIN:VEVENT
DTSTART;TZID=America/Los_Angeles:20240922T190000
DTEND;TZID=America/Los_Angeles:20240922T190000
DTSTAMP:20260422T031911
CREATED:20240904T203745Z
LAST-MODIFIED:20240917T005257Z
UID:10004012-1727031600-1727031600@newvillagearts.org
SUMMARY:JFEST's The Whole Megillah presents "In Every Generation"
DESCRIPTION:
URL:https://newvillagearts.org/event/jfests-the-whole-megillah-presents-in-every-generation/
LOCATION:Ray Charles Stage in the Conrad Prebys Theatre\, 2787 State Street\, Carlsbad\, 92008\, United States
ORGANIZER;CN="New Village Arts":MAILTO:info@newvillagerts.org
END:VEVENT
BEGIN:VEVENT
DTSTART;TZID=America/Los_Angeles:20240925T183000
DTEND;TZID=America/Los_Angeles:20240925T200000
DTSTAMP:20260422T031911
CREATED:20240821T011352Z
LAST-MODIFIED:20241009T190006Z
UID:10003993-1727289000-1727294400@newvillagearts.org
SUMMARY:Improv with Patrick McInnis
DESCRIPTION:
URL:https://newvillagearts.org/event/improv-with-patrick-mcinnis-fall24/2024-09-25/
LOCATION:Sahm Foundation Arts Education Center\, 2787 State St\, Carlsbad\, CA\, 92008\, United States
CATEGORIES:Classes,Education,Improv
ORGANIZER;CN="New Village Arts":MAILTO:info@newvillagerts.org
END:VEVENT
BEGIN:VEVENT
DTSTART;TZID=America/Los_Angeles:20240928T093000
DTEND;TZID=America/Los_Angeles:20240928T113000
DTSTAMP:20260422T031911
CREATED:20240906T211123Z
LAST-MODIFIED:20240919T174737Z
UID:10004018-1727515800-1727523000@newvillagearts.org
SUMMARY:Level 1 Improv: Foundations of Improvisation
DESCRIPTION:
URL:https://newvillagearts.org/event/level-1-improv-foundations-of-improvisation/2024-09-28/
LOCATION:Sahm Foundation Arts Education Center\, 2787 State St\, Carlsbad\, CA\, 92008\, United States
CATEGORIES:Classes,Education,Improv
ORGANIZER;CN="New Village Arts":MAILTO:info@newvillagerts.org
END:VEVENT
END:VCALENDAR