BEGIN:VCALENDAR
VERSION:2.0
PRODID:-//New Village Arts - ECPv6.15.20//NONSGML v1.0//EN
CALSCALE:GREGORIAN
METHOD:PUBLISH
X-ORIGINAL-URL:https://newvillagearts.org
X-WR-CALDESC:Events for New Village Arts
REFRESH-INTERVAL;VALUE=DURATION:PT1H
X-Robots-Tag:noindex
X-PUBLISHED-TTL:PT1H
BEGIN:VTIMEZONE
TZID:America/Los_Angeles
BEGIN:DAYLIGHT
TZOFFSETFROM:-0800
TZOFFSETTO:-0700
TZNAME:PDT
DTSTART:20240310T100000
END:DAYLIGHT
BEGIN:STANDARD
TZOFFSETFROM:-0700
TZOFFSETTO:-0800
TZNAME:PST
DTSTART:20241103T090000
END:STANDARD
BEGIN:DAYLIGHT
TZOFFSETFROM:-0800
TZOFFSETTO:-0700
TZNAME:PDT
DTSTART:20250309T100000
END:DAYLIGHT
BEGIN:STANDARD
TZOFFSETFROM:-0700
TZOFFSETTO:-0800
TZNAME:PST
DTSTART:20251102T090000
END:STANDARD
BEGIN:DAYLIGHT
TZOFFSETFROM:-0800
TZOFFSETTO:-0700
TZNAME:PDT
DTSTART:20260308T100000
END:DAYLIGHT
BEGIN:STANDARD
TZOFFSETFROM:-0700
TZOFFSETTO:-0800
TZNAME:PST
DTSTART:20261101T090000
END:STANDARD
END:VTIMEZONE
BEGIN:VEVENT
DTSTART;TZID=America/Los_Angeles:20250216T140000
DTEND;TZID=America/Los_Angeles:20250216T140000
DTSTAMP:20260425T045514
CREATED:20240703T210825Z
LAST-MODIFIED:20241220T224621Z
UID:10003879-1739714400-1739714400@newvillagearts.org
SUMMARY:The Half Life of Marie Curie
DESCRIPTION:
URL:https://newvillagearts.org/event/the-half-life-of-marie-curie/2025-02-16/
LOCATION:Ray Charles Stage in the Conrad Prebys Theatre\, 2787 State Street\, Carlsbad\, 92008\, United States
CATEGORIES:Theatre
ATTACH;FMTTYPE=image/png:https://newvillagearts.org/wp-content/uploads/2024/07/MarieCurie-show-title-clr.png
ORGANIZER;CN="New Village Arts":MAILTO:info@newvillagerts.org
END:VEVENT
BEGIN:VEVENT
DTSTART;TZID=America/Los_Angeles:20250216T154500
DTEND;TZID=America/Los_Angeles:20250216T154500
DTSTAMP:20260425T045514
CREATED:20250207T220631Z
LAST-MODIFIED:20250207T220714Z
UID:10004428-1739720700-1739720700@newvillagearts.org
SUMMARY:Illuminating Women In Science Panel
DESCRIPTION:
URL:https://newvillagearts.org/event/illuminating-women-in-science-panel/
LOCATION:Ray Charles Stage in the Conrad Prebys Theatre\, 2787 State Street\, Carlsbad\, 92008\, United States
CATEGORIES:Free Event!
ATTACH;FMTTYPE=image/png:https://newvillagearts.org/wp-content/uploads/2025/02/2.png
ORGANIZER;CN="New Village Arts":MAILTO:info@newvillagerts.org
END:VEVENT
BEGIN:VEVENT
DTSTART;TZID=America/Los_Angeles:20250216T193000
DTEND;TZID=America/Los_Angeles:20250216T193000
DTSTAMP:20260425T045514
CREATED:20241206T215646Z
LAST-MODIFIED:20241206T215646Z
UID:10004097-1739734200-1739734200@newvillagearts.org
SUMMARY:Love\, Linda: The Life of Mrs. Cole Porter
DESCRIPTION:
URL:https://newvillagearts.org/event/love-linda-the-life-of-mrs-cole-porter/2025-02-16/
LOCATION:Ray Charles Stage in the Conrad Prebys Theatre\, 2787 State Street\, Carlsbad\, 92008\, United States
ATTACH;FMTTYPE=image/png:https://newvillagearts.org/wp-content/uploads/2024/12/2.png
ORGANIZER;CN="New Village Arts":MAILTO:info@newvillagerts.org
END:VEVENT
BEGIN:VEVENT
DTSTART;TZID=America/Los_Angeles:20250217T180000
DTEND;TZID=America/Los_Angeles:20250217T193000
DTSTAMP:20260425T045514
CREATED:20250130T005052Z
LAST-MODIFIED:20250130T005052Z
UID:10004427-1739815200-1739820600@newvillagearts.org
SUMMARY:Virtual Film Club: THE BOOK OF CLARENCE
DESCRIPTION:
URL:https://newvillagearts.org/event/virtual-film-club-feb/
LOCATION:Virtual\, CA\, 92008\, United States
CATEGORIES:Film Club,Free Event!
ATTACH;FMTTYPE=image/png:https://newvillagearts.org/wp-content/uploads/2024/05/Website-Featured-Images.png
END:VEVENT
BEGIN:VEVENT
DTSTART;TZID=America/Los_Angeles:20250219T140000
DTEND;TZID=America/Los_Angeles:20250219T140000
DTSTAMP:20260425T045514
CREATED:20240703T210825Z
LAST-MODIFIED:20241220T224621Z
UID:10003880-1739973600-1739973600@newvillagearts.org
SUMMARY:The Half Life of Marie Curie
DESCRIPTION:
URL:https://newvillagearts.org/event/the-half-life-of-marie-curie/2025-02-19/
LOCATION:Ray Charles Stage in the Conrad Prebys Theatre\, 2787 State Street\, Carlsbad\, 92008\, United States
CATEGORIES:Theatre
ATTACH;FMTTYPE=image/png:https://newvillagearts.org/wp-content/uploads/2024/07/MarieCurie-show-title-clr.png
ORGANIZER;CN="New Village Arts":MAILTO:info@newvillagerts.org
END:VEVENT
BEGIN:VEVENT
DTSTART;TZID=America/Los_Angeles:20250219T183000
DTEND;TZID=America/Los_Angeles:20250219T200000
DTSTAMP:20260425T045514
CREATED:20250115T010050Z
LAST-MODIFIED:20260130T010633Z
UID:10004144-1739989800-1739995200@newvillagearts.org
SUMMARY:Drop-in Improv with Patrick McInnis
DESCRIPTION:
URL:https://newvillagearts.org/event/drop-in-improv-with-patrick-mcinnis/2025-02-19/
LOCATION:Sahm Foundation Arts Education Center\, 2787 State St\, Carlsbad\, CA\, 92008\, United States
CATEGORIES:Improv
ATTACH;FMTTYPE=image/png:https://newvillagearts.org/wp-content/uploads/2024/12/Wednesday-Improv-FP-1.png
ORGANIZER;CN="New Village Arts":MAILTO:info@newvillagerts.org
END:VEVENT
BEGIN:VEVENT
DTSTART;TZID=America/Los_Angeles:20250220T103000
DTEND;TZID=America/Los_Angeles:20250220T120000
DTSTAMP:20260425T045514
CREATED:20241212T211826Z
LAST-MODIFIED:20250127T234126Z
UID:10004081-1740047400-1740052800@newvillagearts.org
SUMMARY:Daytime Improv with Patrick McInnis
DESCRIPTION:
URL:https://newvillagearts.org/event/daytime-improv-2/2025-02-20/
LOCATION:Sahm Foundation Arts Education Center\, 2787 State St\, Carlsbad\, CA\, 92008\, United States
CATEGORIES:Classes,Education,Improv
ATTACH;FMTTYPE=image/png:https://newvillagearts.org/wp-content/uploads/2024/12/Thursday-Improv-FP.png
ORGANIZER;CN="New Village Arts":MAILTO:info@newvillagerts.org
END:VEVENT
BEGIN:VEVENT
DTSTART;TZID=America/Los_Angeles:20250220T193000
DTEND;TZID=America/Los_Angeles:20250220T193000
DTSTAMP:20260425T045514
CREATED:20240703T210825Z
LAST-MODIFIED:20241220T224621Z
UID:10003881-1740079800-1740079800@newvillagearts.org
SUMMARY:The Half Life of Marie Curie
DESCRIPTION:
URL:https://newvillagearts.org/event/the-half-life-of-marie-curie/2025-02-20/
LOCATION:Ray Charles Stage in the Conrad Prebys Theatre\, 2787 State Street\, Carlsbad\, 92008\, United States
CATEGORIES:Theatre
ATTACH;FMTTYPE=image/png:https://newvillagearts.org/wp-content/uploads/2024/07/MarieCurie-show-title-clr.png
ORGANIZER;CN="New Village Arts":MAILTO:info@newvillagerts.org
END:VEVENT
BEGIN:VEVENT
DTSTART;TZID=America/Los_Angeles:20250221T140000
DTEND;TZID=America/Los_Angeles:20250221T140000
DTSTAMP:20260425T045514
CREATED:20241206T215646Z
LAST-MODIFIED:20241206T215646Z
UID:10004098-1740146400-1740146400@newvillagearts.org
SUMMARY:Love\, Linda: The Life of Mrs. Cole Porter
DESCRIPTION:
URL:https://newvillagearts.org/event/love-linda-the-life-of-mrs-cole-porter/2025-02-21/
LOCATION:Ray Charles Stage in the Conrad Prebys Theatre\, 2787 State Street\, Carlsbad\, 92008\, United States
ATTACH;FMTTYPE=image/png:https://newvillagearts.org/wp-content/uploads/2024/12/2.png
ORGANIZER;CN="New Village Arts":MAILTO:info@newvillagerts.org
END:VEVENT
BEGIN:VEVENT
DTSTART;TZID=America/Los_Angeles:20250221T193000
DTEND;TZID=America/Los_Angeles:20250221T193000
DTSTAMP:20260425T045514
CREATED:20240703T210825Z
LAST-MODIFIED:20241220T224621Z
UID:10003882-1740166200-1740166200@newvillagearts.org
SUMMARY:The Half Life of Marie Curie
DESCRIPTION:
URL:https://newvillagearts.org/event/the-half-life-of-marie-curie/2025-02-21/
LOCATION:Ray Charles Stage in the Conrad Prebys Theatre\, 2787 State Street\, Carlsbad\, 92008\, United States
CATEGORIES:Theatre
ATTACH;FMTTYPE=image/png:https://newvillagearts.org/wp-content/uploads/2024/07/MarieCurie-show-title-clr.png
ORGANIZER;CN="New Village Arts":MAILTO:info@newvillagerts.org
END:VEVENT
BEGIN:VEVENT
DTSTART;TZID=America/Los_Angeles:20250222T090000
DTEND;TZID=America/Los_Angeles:20250222T110000
DTSTAMP:20260425T045514
CREATED:20250123T234420Z
LAST-MODIFIED:20250124T001343Z
UID:10004223-1740214800-1740222000@newvillagearts.org
SUMMARY:Level II Improv: The Game of the Scene
DESCRIPTION:
URL:https://newvillagearts.org/event/level-ii-improv/2025-02-22/
LOCATION:Sahm Foundation Arts Education Center\, 2787 State St\, Carlsbad\, CA\, 92008\, United States
CATEGORIES:Improv
ATTACH;FMTTYPE=image/png:https://newvillagearts.org/wp-content/uploads/2025/01/Improv-Fundamentals-Series-Patrick-2.png
ORGANIZER;CN="New Village Arts":MAILTO:info@newvillagerts.org
END:VEVENT
BEGIN:VEVENT
DTSTART;TZID=America/Los_Angeles:20250222T140000
DTEND;TZID=America/Los_Angeles:20250222T140000
DTSTAMP:20260425T045514
CREATED:20240703T210825Z
LAST-MODIFIED:20241220T224621Z
UID:10003883-1740232800-1740232800@newvillagearts.org
SUMMARY:The Half Life of Marie Curie
DESCRIPTION:
URL:https://newvillagearts.org/event/the-half-life-of-marie-curie/2025-02-22/1/
LOCATION:Ray Charles Stage in the Conrad Prebys Theatre\, 2787 State Street\, Carlsbad\, 92008\, United States
CATEGORIES:Theatre
ATTACH;FMTTYPE=image/png:https://newvillagearts.org/wp-content/uploads/2024/07/MarieCurie-show-title-clr.png
ORGANIZER;CN="New Village Arts":MAILTO:info@newvillagerts.org
END:VEVENT
BEGIN:VEVENT
DTSTART;TZID=America/Los_Angeles:20250222T193000
DTEND;TZID=America/Los_Angeles:20250222T193000
DTSTAMP:20260425T045514
CREATED:20240703T210825Z
LAST-MODIFIED:20241220T224621Z
UID:10003884-1740252600-1740252600@newvillagearts.org
SUMMARY:The Half Life of Marie Curie
DESCRIPTION:
URL:https://newvillagearts.org/event/the-half-life-of-marie-curie/2025-02-22/2/
LOCATION:Ray Charles Stage in the Conrad Prebys Theatre\, 2787 State Street\, Carlsbad\, 92008\, United States
CATEGORIES:Theatre
ATTACH;FMTTYPE=image/png:https://newvillagearts.org/wp-content/uploads/2024/07/MarieCurie-show-title-clr.png
ORGANIZER;CN="New Village Arts":MAILTO:info@newvillagerts.org
END:VEVENT
BEGIN:VEVENT
DTSTART;TZID=America/Los_Angeles:20250223T140000
DTEND;TZID=America/Los_Angeles:20250223T140000
DTSTAMP:20260425T045514
CREATED:20240703T210825Z
LAST-MODIFIED:20241220T224621Z
UID:10003885-1740319200-1740319200@newvillagearts.org
SUMMARY:The Half Life of Marie Curie
DESCRIPTION:
URL:https://newvillagearts.org/event/the-half-life-of-marie-curie/2025-02-23/
LOCATION:Ray Charles Stage in the Conrad Prebys Theatre\, 2787 State Street\, Carlsbad\, 92008\, United States
CATEGORIES:Theatre
ATTACH;FMTTYPE=image/png:https://newvillagearts.org/wp-content/uploads/2024/07/MarieCurie-show-title-clr.png
ORGANIZER;CN="New Village Arts":MAILTO:info@newvillagerts.org
END:VEVENT
BEGIN:VEVENT
DTSTART;TZID=America/Los_Angeles:20250223T193000
DTEND;TZID=America/Los_Angeles:20250223T193000
DTSTAMP:20260425T045514
CREATED:20241206T215646Z
LAST-MODIFIED:20241206T215646Z
UID:10004099-1740339000-1740339000@newvillagearts.org
SUMMARY:Love\, Linda: The Life of Mrs. Cole Porter
DESCRIPTION:
URL:https://newvillagearts.org/event/love-linda-the-life-of-mrs-cole-porter/2025-02-23/
LOCATION:Ray Charles Stage in the Conrad Prebys Theatre\, 2787 State Street\, Carlsbad\, 92008\, United States
ATTACH;FMTTYPE=image/png:https://newvillagearts.org/wp-content/uploads/2024/12/2.png
ORGANIZER;CN="New Village Arts":MAILTO:info@newvillagerts.org
END:VEVENT
BEGIN:VEVENT
DTSTART;TZID=America/Los_Angeles:20250226T183000
DTEND;TZID=America/Los_Angeles:20250226T200000
DTSTAMP:20260425T045514
CREATED:20250115T010050Z
LAST-MODIFIED:20260130T010633Z
UID:10004145-1740594600-1740600000@newvillagearts.org
SUMMARY:Drop-in Improv with Patrick McInnis
DESCRIPTION:
URL:https://newvillagearts.org/event/drop-in-improv-with-patrick-mcinnis/2025-02-26/
LOCATION:Sahm Foundation Arts Education Center\, 2787 State St\, Carlsbad\, CA\, 92008\, United States
CATEGORIES:Improv
ATTACH;FMTTYPE=image/png:https://newvillagearts.org/wp-content/uploads/2024/12/Wednesday-Improv-FP-1.png
ORGANIZER;CN="New Village Arts":MAILTO:info@newvillagerts.org
END:VEVENT
BEGIN:VEVENT
DTSTART;TZID=America/Los_Angeles:20250226T200000
DTEND;TZID=America/Los_Angeles:20250226T200000
DTSTAMP:20260425T045514
CREATED:20250219T212725Z
LAST-MODIFIED:20250219T213026Z
UID:10004208-1740600000-1740600000@newvillagearts.org
SUMMARY:Kid Goblin: Gone Nuts!
DESCRIPTION:
URL:https://newvillagearts.org/event/kid-goblin-3/
LOCATION:White Family Next Stage\, 2787 State Street\, Carlsbad\, CA\, 92008\, United States
CATEGORIES:Comedy,Improv
ATTACH;FMTTYPE=image/png:https://newvillagearts.org/wp-content/uploads/2025/01/Kid-Goblin-FP.png
ORGANIZER;CN="New Village Arts":MAILTO:info@newvillagerts.org
END:VEVENT
BEGIN:VEVENT
DTSTART;TZID=America/Los_Angeles:20250227T103000
DTEND;TZID=America/Los_Angeles:20250227T120000
DTSTAMP:20260425T045514
CREATED:20241212T211826Z
LAST-MODIFIED:20250127T234126Z
UID:10004082-1740652200-1740657600@newvillagearts.org
SUMMARY:Daytime Improv with Patrick McInnis
DESCRIPTION:
URL:https://newvillagearts.org/event/daytime-improv-2/2025-02-27/
LOCATION:Sahm Foundation Arts Education Center\, 2787 State St\, Carlsbad\, CA\, 92008\, United States
CATEGORIES:Classes,Education,Improv
ATTACH;FMTTYPE=image/png:https://newvillagearts.org/wp-content/uploads/2024/12/Thursday-Improv-FP.png
ORGANIZER;CN="New Village Arts":MAILTO:info@newvillagerts.org
END:VEVENT
BEGIN:VEVENT
DTSTART;TZID=America/Los_Angeles:20250227T200000
DTEND;TZID=America/Los_Angeles:20250227T200000
DTSTAMP:20260425T045514
CREATED:20250113T214956Z
LAST-MODIFIED:20250113T215033Z
UID:10004117-1740686400-1740686400@newvillagearts.org
SUMMARY:Voices of Poetry
DESCRIPTION:
URL:https://newvillagearts.org/event/voices-of-poetry-2/2025-02-27/
LOCATION:White Family Next Stage\, 2787 State Street\, Carlsbad\, CA\, 92008\, United States
ATTACH;FMTTYPE=image/png:https://newvillagearts.org/wp-content/uploads/2025/01/VOP-FP.png
ORGANIZER;CN="New Village Arts":MAILTO:info@newvillagerts.org
END:VEVENT
BEGIN:VEVENT
DTSTART;TZID=America/Los_Angeles:20250228T200000
DTEND;TZID=America/Los_Angeles:20250228T200000
DTSTAMP:20260425T045514
CREATED:20250218T231430Z
LAST-MODIFIED:20250225T234706Z
UID:10004124-1740772800-1740772800@newvillagearts.org
SUMMARY:Improv Comedy Show
DESCRIPTION:
URL:https://newvillagearts.org/event/improv-comedy-feb/
LOCATION:White Family Next Stage\, 2787 State Street\, Carlsbad\, CA\, 92008\, United States
CATEGORIES:Comedy,Improv
ATTACH;FMTTYPE=image/png:https://newvillagearts.org/wp-content/uploads/2025/01/Improv-Comedy-FP.png
ORGANIZER;CN="New Village Arts":MAILTO:info@newvillagerts.org
END:VEVENT
BEGIN:VEVENT
DTSTART;TZID=America/Los_Angeles:20250301T090000
DTEND;TZID=America/Los_Angeles:20250301T110000
DTSTAMP:20260425T045514
CREATED:20250123T234420Z
LAST-MODIFIED:20250124T001343Z
UID:10004224-1740819600-1740826800@newvillagearts.org
SUMMARY:Level II Improv: The Game of the Scene
DESCRIPTION:
URL:https://newvillagearts.org/event/level-ii-improv/2025-03-01/
LOCATION:Sahm Foundation Arts Education Center\, 2787 State St\, Carlsbad\, CA\, 92008\, United States
CATEGORIES:Improv
ATTACH;FMTTYPE=image/png:https://newvillagearts.org/wp-content/uploads/2025/01/Improv-Fundamentals-Series-Patrick-2.png
ORGANIZER;CN="New Village Arts":MAILTO:info@newvillagerts.org
END:VEVENT
BEGIN:VEVENT
DTSTART;TZID=America/Los_Angeles:20250305T183000
DTEND;TZID=America/Los_Angeles:20250305T200000
DTSTAMP:20260425T045514
CREATED:20250115T010050Z
LAST-MODIFIED:20260130T010633Z
UID:10004146-1741199400-1741204800@newvillagearts.org
SUMMARY:Drop-in Improv with Patrick McInnis
DESCRIPTION:
URL:https://newvillagearts.org/event/drop-in-improv-with-patrick-mcinnis/2025-03-05/
LOCATION:Sahm Foundation Arts Education Center\, 2787 State St\, Carlsbad\, CA\, 92008\, United States
CATEGORIES:Improv
ATTACH;FMTTYPE=image/png:https://newvillagearts.org/wp-content/uploads/2024/12/Wednesday-Improv-FP-1.png
ORGANIZER;CN="New Village Arts":MAILTO:info@newvillagerts.org
END:VEVENT
BEGIN:VEVENT
DTSTART;TZID=America/Los_Angeles:20250306T103000
DTEND;TZID=America/Los_Angeles:20250306T120000
DTSTAMP:20260425T045514
CREATED:20241212T211826Z
LAST-MODIFIED:20250127T234126Z
UID:10004083-1741257000-1741262400@newvillagearts.org
SUMMARY:Daytime Improv with Patrick McInnis
DESCRIPTION:
URL:https://newvillagearts.org/event/daytime-improv-2/2025-03-06/
LOCATION:Sahm Foundation Arts Education Center\, 2787 State St\, Carlsbad\, CA\, 92008\, United States
CATEGORIES:Classes,Education,Improv
ATTACH;FMTTYPE=image/png:https://newvillagearts.org/wp-content/uploads/2024/12/Thursday-Improv-FP.png
ORGANIZER;CN="New Village Arts":MAILTO:info@newvillagerts.org
END:VEVENT
BEGIN:VEVENT
DTSTART;TZID=America/Los_Angeles:20250308T193000
DTEND;TZID=America/Los_Angeles:20250308T193000
DTSTAMP:20260425T045514
CREATED:20250306T201128Z
LAST-MODIFIED:20250306T201128Z
UID:10004474-1741462200-1741462200@newvillagearts.org
SUMMARY:Rhythm and Roots ft Joe’s Cafe: A Latin Jazz Quintet
DESCRIPTION:
URL:https://newvillagearts.org/event/rhythm-and-roots/
LOCATION:Ray Charles Stage in the Conrad Prebys Theatre\, 2787 State Street\, Carlsbad\, 92008\, United States
CATEGORIES:Music
ATTACH;FMTTYPE=image/png:https://newvillagearts.org/wp-content/uploads/2025/03/2.png
ORGANIZER;CN="New Village Arts":MAILTO:info@newvillagerts.org
END:VEVENT
BEGIN:VEVENT
DTSTART;TZID=America/Los_Angeles:20250312T183000
DTEND;TZID=America/Los_Angeles:20250312T200000
DTSTAMP:20260425T045514
CREATED:20250115T010050Z
LAST-MODIFIED:20260130T010633Z
UID:10004147-1741804200-1741809600@newvillagearts.org
SUMMARY:Drop-in Improv with Patrick McInnis
DESCRIPTION:
URL:https://newvillagearts.org/event/drop-in-improv-with-patrick-mcinnis/2025-03-12/
LOCATION:Sahm Foundation Arts Education Center\, 2787 State St\, Carlsbad\, CA\, 92008\, United States
CATEGORIES:Improv
ATTACH;FMTTYPE=image/png:https://newvillagearts.org/wp-content/uploads/2024/12/Wednesday-Improv-FP-1.png
ORGANIZER;CN="New Village Arts":MAILTO:info@newvillagerts.org
END:VEVENT
BEGIN:VEVENT
DTSTART;TZID=America/Los_Angeles:20250313T103000
DTEND;TZID=America/Los_Angeles:20250313T120000
DTSTAMP:20260425T045514
CREATED:20241212T211826Z
LAST-MODIFIED:20250127T234126Z
UID:10004084-1741861800-1741867200@newvillagearts.org
SUMMARY:Daytime Improv with Patrick McInnis
DESCRIPTION:
URL:https://newvillagearts.org/event/daytime-improv-2/2025-03-13/
LOCATION:Sahm Foundation Arts Education Center\, 2787 State St\, Carlsbad\, CA\, 92008\, United States
CATEGORIES:Classes,Education,Improv
ATTACH;FMTTYPE=image/png:https://newvillagearts.org/wp-content/uploads/2024/12/Thursday-Improv-FP.png
ORGANIZER;CN="New Village Arts":MAILTO:info@newvillagerts.org
END:VEVENT
BEGIN:VEVENT
DTSTART;TZID=America/Los_Angeles:20250314T194500
DTEND;TZID=America/Los_Angeles:20250314T194500
DTSTAMP:20260425T045514
CREATED:20250113T222543Z
LAST-MODIFIED:20260219T194857Z
UID:10004446-1741981500-1741981500@newvillagearts.org
SUMMARY:Improv Comedy Show
DESCRIPTION:
URL:https://newvillagearts.org/event/improv-comedy-show/2025-03-14/
LOCATION:White Family Next Stage\, 2787 State Street\, Carlsbad\, CA\, 92008\, United States
CATEGORIES:Comedy,Improv
ATTACH;FMTTYPE=image/png:https://newvillagearts.org/wp-content/uploads/2025/01/Improv-Comedy-FP-1.png
ORGANIZER;CN="New Village Arts":MAILTO:info@newvillagerts.org
END:VEVENT
BEGIN:VEVENT
DTSTART;TZID=America/Los_Angeles:20250315T090000
DTEND;TZID=America/Los_Angeles:20250315T110000
DTSTAMP:20260425T045514
CREATED:20250123T234420Z
LAST-MODIFIED:20250124T001343Z
UID:10004226-1742029200-1742036400@newvillagearts.org
SUMMARY:Level II Improv: The Game of the Scene
DESCRIPTION:
URL:https://newvillagearts.org/event/level-ii-improv/2025-03-15/
LOCATION:Sahm Foundation Arts Education Center\, 2787 State St\, Carlsbad\, CA\, 92008\, United States
CATEGORIES:Improv
ATTACH;FMTTYPE=image/png:https://newvillagearts.org/wp-content/uploads/2025/01/Improv-Fundamentals-Series-Patrick-2.png
ORGANIZER;CN="New Village Arts":MAILTO:info@newvillagerts.org
END:VEVENT
BEGIN:VEVENT
DTSTART;TZID=America/Los_Angeles:20250316T190000
DTEND;TZID=America/Los_Angeles:20250316T190000
DTSTAMP:20260425T045514
CREATED:20250115T014300Z
LAST-MODIFIED:20250305T183724Z
UID:10004210-1742151600-1742151600@newvillagearts.org
SUMMARY:Dad Skeleton's Comedy Variety Hour
DESCRIPTION:
URL:https://newvillagearts.org/event/dad-skeletons-mar/
LOCATION:White Family Next Stage\, 2787 State Street\, Carlsbad\, CA\, 92008\, United States
CATEGORIES:Comedy,Improv,Theatre
ATTACH;FMTTYPE=image/png:https://newvillagearts.org/wp-content/uploads/2025/01/Dad-Skeleton-FP.png
ORGANIZER;CN="New Village Arts":MAILTO:info@newvillagerts.org
END:VEVENT
BEGIN:VEVENT
DTSTART;TZID=America/Los_Angeles:20250317T180000
DTEND;TZID=America/Los_Angeles:20250317T193000
DTSTAMP:20260425T045514
CREATED:20250226T193750Z
LAST-MODIFIED:20250226T194239Z
UID:10004440-1742234400-1742239800@newvillagearts.org
SUMMARY:Virtual Film Club: BLACK BARBIE
DESCRIPTION:
URL:https://newvillagearts.org/event/virtual-film-club-march/
LOCATION:Virtual\, CA\, 92008\, United States
CATEGORIES:Film Club,Free Event!
ATTACH;FMTTYPE=image/png:https://newvillagearts.org/wp-content/uploads/2024/05/Website-Featured-Images.png
END:VEVENT
END:VCALENDAR