BEGIN:VCALENDAR
VERSION:2.0
PRODID:-//New Village Arts - ECPv6.15.20//NONSGML v1.0//EN
CALSCALE:GREGORIAN
METHOD:PUBLISH
X-ORIGINAL-URL:https://newvillagearts.org
X-WR-CALDESC:Events for New Village Arts
REFRESH-INTERVAL;VALUE=DURATION:PT1H
X-Robots-Tag:noindex
X-PUBLISHED-TTL:PT1H
BEGIN:VTIMEZONE
TZID:America/Los_Angeles
BEGIN:DAYLIGHT
TZOFFSETFROM:-0800
TZOFFSETTO:-0700
TZNAME:PDT
DTSTART:20230312T100000
END:DAYLIGHT
BEGIN:STANDARD
TZOFFSETFROM:-0700
TZOFFSETTO:-0800
TZNAME:PST
DTSTART:20231105T090000
END:STANDARD
BEGIN:DAYLIGHT
TZOFFSETFROM:-0800
TZOFFSETTO:-0700
TZNAME:PDT
DTSTART:20240310T100000
END:DAYLIGHT
BEGIN:STANDARD
TZOFFSETFROM:-0700
TZOFFSETTO:-0800
TZNAME:PST
DTSTART:20241103T090000
END:STANDARD
BEGIN:DAYLIGHT
TZOFFSETFROM:-0800
TZOFFSETTO:-0700
TZNAME:PDT
DTSTART:20250309T100000
END:DAYLIGHT
BEGIN:STANDARD
TZOFFSETFROM:-0700
TZOFFSETTO:-0800
TZNAME:PST
DTSTART:20251102T090000
END:STANDARD
BEGIN:DAYLIGHT
TZOFFSETFROM:-0800
TZOFFSETTO:-0700
TZNAME:PDT
DTSTART:20260308T100000
END:DAYLIGHT
BEGIN:STANDARD
TZOFFSETFROM:-0700
TZOFFSETTO:-0800
TZNAME:PST
DTSTART:20261101T090000
END:STANDARD
END:VTIMEZONE
BEGIN:VEVENT
DTSTART;TZID=America/Los_Angeles:20241217T180000
DTEND;TZID=America/Los_Angeles:20241217T203000
DTSTAMP:20260425T032520
CREATED:20241130T225837Z
LAST-MODIFIED:20241130T225837Z
UID:10004091-1734458400-1734467400@newvillagearts.org
SUMMARY:Paint & Sip with Monica Martin: Light up the Holidays
DESCRIPTION:
URL:https://newvillagearts.org/event/paint-sip-with-monica-martin-dec-17/
LOCATION:Sahm Foundation Arts Education Center\, 2787 State St\, Carlsbad\, CA\, 92008\, United States
CATEGORIES:Classes,Education
ATTACH;FMTTYPE=image/png:https://newvillagearts.org/wp-content/uploads/2024/11/Paint-Sip.png
ORGANIZER;CN="New Village Arts":MAILTO:info@newvillagerts.org
END:VEVENT
BEGIN:VEVENT
DTSTART;TZID=America/Los_Angeles:20241217T190000
DTEND;TZID=America/Los_Angeles:20241217T190000
DTSTAMP:20260425T032520
CREATED:20241203T185957Z
LAST-MODIFIED:20241203T185957Z
UID:10004088-1734462000-1734462000@newvillagearts.org
SUMMARY:1222 Oceanfront: A Black Family Christmas KPBS Viewing Party
DESCRIPTION:
URL:https://newvillagearts.org/event/1222-oceanfront-a-black-family-christmas-kpbs-viewing-party/
LOCATION:Ray Charles Stage in the Conrad Prebys Theatre\, 2787 State Street\, Carlsbad\, 92008\, United States
CATEGORIES:Free Event!
ATTACH;FMTTYPE=image/png:https://newvillagearts.org/wp-content/uploads/2024/11/1222-Oceanfront-Viewing-FP.png
ORGANIZER;CN="New Village Arts":MAILTO:info@newvillagerts.org
END:VEVENT
BEGIN:VEVENT
DTSTART;TZID=America/Los_Angeles:20241218T140000
DTEND;TZID=America/Los_Angeles:20241218T140000
DTSTAMP:20260425T032520
CREATED:20240703T204504Z
LAST-MODIFIED:20241218T214057Z
UID:10003854-1734530400-1734530400@newvillagearts.org
SUMMARY:Miracle on 34th Street: A Live Musical Radio Play
DESCRIPTION:
URL:https://newvillagearts.org/event/miracle-on-34th-street-a-live-musical-radio-play/2024-12-18/
LOCATION:Ray Charles Stage in the Conrad Prebys Theatre\, 2787 State Street\, Carlsbad\, 92008\, United States
CATEGORIES:Theatre
ATTACH;FMTTYPE=image/png:https://newvillagearts.org/wp-content/uploads/2024/07/Mon34st-show-title-clr.png
ORGANIZER;CN="New Village Arts":MAILTO:info@newvillagerts.org
END:VEVENT
BEGIN:VEVENT
DTSTART;TZID=America/Los_Angeles:20241218T183000
DTEND;TZID=America/Los_Angeles:20241218T200000
DTSTAMP:20260425T032520
CREATED:20240821T011352Z
LAST-MODIFIED:20241009T190006Z
UID:10004005-1734546600-1734552000@newvillagearts.org
SUMMARY:Improv with Patrick McInnis
DESCRIPTION:
URL:https://newvillagearts.org/event/improv-with-patrick-mcinnis-fall24/2024-12-18/
LOCATION:Sahm Foundation Arts Education Center\, 2787 State St\, Carlsbad\, CA\, 92008\, United States
CATEGORIES:Classes,Education,Improv
ORGANIZER;CN="New Village Arts":MAILTO:info@newvillagerts.org
END:VEVENT
BEGIN:VEVENT
DTSTART;TZID=America/Los_Angeles:20241219T180000
DTEND;TZID=America/Los_Angeles:20241219T200000
DTSTAMP:20260425T032520
CREATED:20241010T231759Z
LAST-MODIFIED:20241010T232111Z
UID:10004046-1734631200-1734638400@newvillagearts.org
SUMMARY:Acting For The Stage & Film
DESCRIPTION:
URL:https://newvillagearts.org/event/acting-for-the-stage-film/2024-12-19/
LOCATION:Sahm Foundation Arts Education Center\, 2787 State St\, Carlsbad\, CA\, 92008\, United States
ORGANIZER;CN="New Village Arts":MAILTO:info@newvillagerts.org
END:VEVENT
BEGIN:VEVENT
DTSTART;TZID=America/Los_Angeles:20241219T193000
DTEND;TZID=America/Los_Angeles:20241219T193000
DTSTAMP:20260425T032520
CREATED:20240703T204504Z
LAST-MODIFIED:20241218T214057Z
UID:10003855-1734636600-1734636600@newvillagearts.org
SUMMARY:Miracle on 34th Street: A Live Musical Radio Play
DESCRIPTION:
URL:https://newvillagearts.org/event/miracle-on-34th-street-a-live-musical-radio-play/2024-12-19/
LOCATION:Ray Charles Stage in the Conrad Prebys Theatre\, 2787 State Street\, Carlsbad\, 92008\, United States
CATEGORIES:Theatre
ATTACH;FMTTYPE=image/png:https://newvillagearts.org/wp-content/uploads/2024/07/Mon34st-show-title-clr.png
ORGANIZER;CN="New Village Arts":MAILTO:info@newvillagerts.org
END:VEVENT
BEGIN:VEVENT
DTSTART;TZID=America/Los_Angeles:20241220T193000
DTEND;TZID=America/Los_Angeles:20241220T193000
DTSTAMP:20260425T032520
CREATED:20240703T204504Z
LAST-MODIFIED:20241218T214057Z
UID:10003856-1734723000-1734723000@newvillagearts.org
SUMMARY:Miracle on 34th Street: A Live Musical Radio Play
DESCRIPTION:
URL:https://newvillagearts.org/event/miracle-on-34th-street-a-live-musical-radio-play/2024-12-20/
LOCATION:Ray Charles Stage in the Conrad Prebys Theatre\, 2787 State Street\, Carlsbad\, 92008\, United States
CATEGORIES:Theatre
ATTACH;FMTTYPE=image/png:https://newvillagearts.org/wp-content/uploads/2024/07/Mon34st-show-title-clr.png
ORGANIZER;CN="New Village Arts":MAILTO:info@newvillagerts.org
END:VEVENT
BEGIN:VEVENT
DTSTART;TZID=America/Los_Angeles:20241221T140000
DTEND;TZID=America/Los_Angeles:20241221T140000
DTSTAMP:20260425T032520
CREATED:20240703T204504Z
LAST-MODIFIED:20241218T214057Z
UID:10003857-1734789600-1734789600@newvillagearts.org
SUMMARY:Miracle on 34th Street: A Live Musical Radio Play
DESCRIPTION:
URL:https://newvillagearts.org/event/miracle-on-34th-street-a-live-musical-radio-play/2024-12-21/1/
LOCATION:Ray Charles Stage in the Conrad Prebys Theatre\, 2787 State Street\, Carlsbad\, 92008\, United States
CATEGORIES:Theatre
ATTACH;FMTTYPE=image/png:https://newvillagearts.org/wp-content/uploads/2024/07/Mon34st-show-title-clr.png
ORGANIZER;CN="New Village Arts":MAILTO:info@newvillagerts.org
END:VEVENT
BEGIN:VEVENT
DTSTART;TZID=America/Los_Angeles:20241221T193000
DTEND;TZID=America/Los_Angeles:20241221T193000
DTSTAMP:20260425T032520
CREATED:20240703T204504Z
LAST-MODIFIED:20241218T214057Z
UID:10003858-1734809400-1734809400@newvillagearts.org
SUMMARY:Miracle on 34th Street: A Live Musical Radio Play
DESCRIPTION:
URL:https://newvillagearts.org/event/miracle-on-34th-street-a-live-musical-radio-play/2024-12-21/2/
LOCATION:Ray Charles Stage in the Conrad Prebys Theatre\, 2787 State Street\, Carlsbad\, 92008\, United States
CATEGORIES:Theatre
ATTACH;FMTTYPE=image/png:https://newvillagearts.org/wp-content/uploads/2024/07/Mon34st-show-title-clr.png
ORGANIZER;CN="New Village Arts":MAILTO:info@newvillagerts.org
END:VEVENT
BEGIN:VEVENT
DTSTART;TZID=America/Los_Angeles:20241222T140000
DTEND;TZID=America/Los_Angeles:20241222T140000
DTSTAMP:20260425T032520
CREATED:20240703T204504Z
LAST-MODIFIED:20241218T214057Z
UID:10003859-1734876000-1734876000@newvillagearts.org
SUMMARY:Miracle on 34th Street: A Live Musical Radio Play
DESCRIPTION:
URL:https://newvillagearts.org/event/miracle-on-34th-street-a-live-musical-radio-play/2024-12-22/1/
LOCATION:Ray Charles Stage in the Conrad Prebys Theatre\, 2787 State Street\, Carlsbad\, 92008\, United States
CATEGORIES:Theatre
ATTACH;FMTTYPE=image/png:https://newvillagearts.org/wp-content/uploads/2024/07/Mon34st-show-title-clr.png
ORGANIZER;CN="New Village Arts":MAILTO:info@newvillagerts.org
END:VEVENT
BEGIN:VEVENT
DTSTART;TZID=America/Los_Angeles:20241222T180000
DTEND;TZID=America/Los_Angeles:20241222T180000
DTSTAMP:20260425T032520
CREATED:20240703T204504Z
LAST-MODIFIED:20241218T214057Z
UID:10004100-1734890400-1734890400@newvillagearts.org
SUMMARY:Miracle on 34th Street: A Live Musical Radio Play
DESCRIPTION:
URL:https://newvillagearts.org/event/miracle-on-34th-street-a-live-musical-radio-play/2024-12-22/2/
LOCATION:Ray Charles Stage in the Conrad Prebys Theatre\, 2787 State Street\, Carlsbad\, 92008\, United States
CATEGORIES:Theatre
ATTACH;FMTTYPE=image/png:https://newvillagearts.org/wp-content/uploads/2024/07/Mon34st-show-title-clr.png
ORGANIZER;CN="New Village Arts":MAILTO:info@newvillagerts.org
END:VEVENT
BEGIN:VEVENT
DTSTART;TZID=America/Los_Angeles:20241224T140000
DTEND;TZID=America/Los_Angeles:20241224T140000
DTSTAMP:20260425T032520
CREATED:20240703T204504Z
LAST-MODIFIED:20241218T214057Z
UID:10003860-1735048800-1735048800@newvillagearts.org
SUMMARY:Miracle on 34th Street: A Live Musical Radio Play
DESCRIPTION:
URL:https://newvillagearts.org/event/miracle-on-34th-street-a-live-musical-radio-play/2024-12-24/
LOCATION:Ray Charles Stage in the Conrad Prebys Theatre\, 2787 State Street\, Carlsbad\, 92008\, United States
CATEGORIES:Theatre
ATTACH;FMTTYPE=image/png:https://newvillagearts.org/wp-content/uploads/2024/07/Mon34st-show-title-clr.png
ORGANIZER;CN="New Village Arts":MAILTO:info@newvillagerts.org
END:VEVENT
BEGIN:VEVENT
DTSTART;TZID=America/Los_Angeles:20250118T100000
DTEND;TZID=America/Los_Angeles:20250118T130000
DTSTAMP:20260425T032520
CREATED:20250115T021103Z
LAST-MODIFIED:20250115T021142Z
UID:10004137-1737194400-1737205200@newvillagearts.org
SUMMARY:Improv Master Class: Character/POV
DESCRIPTION:
URL:https://newvillagearts.org/event/improv-character-mc/
LOCATION:Sahm Foundation Arts Education Center\, 2787 State St\, Carlsbad\, CA\, 92008\, United States
CATEGORIES:Education,Improv
ATTACH;FMTTYPE=image/png:https://newvillagearts.org/wp-content/uploads/2025/01/AM-Improv-Masterclasses.png
ORGANIZER;CN="New Village Arts":MAILTO:info@newvillagerts.org
END:VEVENT
BEGIN:VEVENT
DTSTART;TZID=America/Los_Angeles:20250118T140000
DTEND;TZID=America/Los_Angeles:20250118T170000
DTSTAMP:20260425T032520
CREATED:20250115T021215Z
LAST-MODIFIED:20250115T021215Z
UID:10004138-1737208800-1737219600@newvillagearts.org
SUMMARY:Improv Master Class: Object Work
DESCRIPTION:
URL:https://newvillagearts.org/event/improv-object-mc/
LOCATION:Sahm Foundation Arts Education Center\, 2787 State St\, Carlsbad\, CA\, 92008\, United States
CATEGORIES:Education,Improv
ATTACH;FMTTYPE=image/png:https://newvillagearts.org/wp-content/uploads/2025/01/PM-Improv-Masterclasses.png
ORGANIZER;CN="New Village Arts":MAILTO:info@newvillagerts.org
END:VEVENT
BEGIN:VEVENT
DTSTART;TZID=America/Los_Angeles:20250119T190000
DTEND;TZID=America/Los_Angeles:20250119T190000
DTSTAMP:20260425T032520
CREATED:20250111T232333Z
LAST-MODIFIED:20250113T234852Z
UID:10004102-1737313200-1737313200@newvillagearts.org
SUMMARY:Dad Skeleton's Comedy Variety Hour
DESCRIPTION:
URL:https://newvillagearts.org/event/dad-skeleton-jan/
LOCATION:White Family Next Stage\, 2787 State Street\, Carlsbad\, CA\, 92008\, United States
CATEGORIES:Comedy,Improv,Theatre
ATTACH;FMTTYPE=image/png:https://newvillagearts.org/wp-content/uploads/2025/01/Dad-Skeleton-FP.png
ORGANIZER;CN="New Village Arts":MAILTO:info@newvillagerts.org
END:VEVENT
BEGIN:VEVENT
DTSTART;TZID=America/Los_Angeles:20250120T180000
DTEND;TZID=America/Los_Angeles:20250120T193000
DTSTAMP:20260425T032520
CREATED:20250107T002926Z
LAST-MODIFIED:20250107T002957Z
UID:10004101-1737396000-1737401400@newvillagearts.org
SUMMARY:Virtual Film Club: THE SIX TRIPLE EIGHT
DESCRIPTION:
URL:https://newvillagearts.org/event/film-club-january/
LOCATION:Virtual\, CA\, 92008\, United States
CATEGORIES:Film Club,Free Event!
ATTACH;FMTTYPE=image/png:https://newvillagearts.org/wp-content/uploads/2024/05/Website-Featured-Images.png
END:VEVENT
BEGIN:VEVENT
DTSTART;TZID=America/Los_Angeles:20250123T200000
DTEND;TZID=America/Los_Angeles:20250123T200000
DTSTAMP:20260425T032520
CREATED:20250113T214956Z
LAST-MODIFIED:20250113T215033Z
UID:10004115-1737662400-1737662400@newvillagearts.org
SUMMARY:Voices of Poetry
DESCRIPTION:
URL:https://newvillagearts.org/event/voices-of-poetry-2/2025-01-23/
LOCATION:White Family Next Stage\, 2787 State Street\, Carlsbad\, CA\, 92008\, United States
ATTACH;FMTTYPE=image/png:https://newvillagearts.org/wp-content/uploads/2025/01/VOP-FP.png
ORGANIZER;CN="New Village Arts":MAILTO:info@newvillagerts.org
END:VEVENT
BEGIN:VEVENT
DTSTART;TZID=America/Los_Angeles:20250124T193000
DTEND;TZID=America/Los_Angeles:20250124T193000
DTSTAMP:20260425T032520
CREATED:20240703T210825Z
LAST-MODIFIED:20241220T224621Z
UID:10003862-1737747000-1737747000@newvillagearts.org
SUMMARY:The Half Life of Marie Curie
DESCRIPTION:
URL:https://newvillagearts.org/event/the-half-life-of-marie-curie/2025-01-24/
LOCATION:Ray Charles Stage in the Conrad Prebys Theatre\, 2787 State Street\, Carlsbad\, 92008\, United States
CATEGORIES:Theatre
ATTACH;FMTTYPE=image/png:https://newvillagearts.org/wp-content/uploads/2024/07/MarieCurie-show-title-clr.png
ORGANIZER;CN="New Village Arts":MAILTO:info@newvillagerts.org
END:VEVENT
BEGIN:VEVENT
DTSTART;TZID=America/Los_Angeles:20250125T130000
DTEND;TZID=America/Los_Angeles:20250125T170000
DTSTAMP:20260425T032520
CREATED:20250122T192219Z
LAST-MODIFIED:20250124T183846Z
UID:10004213-1737810000-1737824400@newvillagearts.org
SUMMARY:One Day Comedy Writing Bootcamp
DESCRIPTION:
URL:https://newvillagearts.org/event/comedy-writing-bootcamp/
LOCATION:White Family Next Stage\, 2787 State Street\, Carlsbad\, CA\, 92008\, United States
CATEGORIES:Education,Improv
ATTACH;FMTTYPE=image/png:https://newvillagearts.org/wp-content/uploads/2025/01/Improv-Masterclasses-2.png
ORGANIZER;CN="New Village Arts":MAILTO:info@newvillagerts.org
END:VEVENT
BEGIN:VEVENT
DTSTART;TZID=America/Los_Angeles:20250125T193000
DTEND;TZID=America/Los_Angeles:20250125T193000
DTSTAMP:20260425T032520
CREATED:20240703T210825Z
LAST-MODIFIED:20241220T224621Z
UID:10003863-1737833400-1737833400@newvillagearts.org
SUMMARY:The Half Life of Marie Curie
DESCRIPTION:
URL:https://newvillagearts.org/event/the-half-life-of-marie-curie/2025-01-25/
LOCATION:Ray Charles Stage in the Conrad Prebys Theatre\, 2787 State Street\, Carlsbad\, 92008\, United States
CATEGORIES:Theatre
ATTACH;FMTTYPE=image/png:https://newvillagearts.org/wp-content/uploads/2024/07/MarieCurie-show-title-clr.png
ORGANIZER;CN="New Village Arts":MAILTO:info@newvillagerts.org
END:VEVENT
BEGIN:VEVENT
DTSTART;TZID=America/Los_Angeles:20250126T140000
DTEND;TZID=America/Los_Angeles:20250126T140000
DTSTAMP:20260425T032520
CREATED:20240703T210825Z
LAST-MODIFIED:20241220T224621Z
UID:10003864-1737900000-1737900000@newvillagearts.org
SUMMARY:The Half Life of Marie Curie
DESCRIPTION:
URL:https://newvillagearts.org/event/the-half-life-of-marie-curie/2025-01-26/
LOCATION:Ray Charles Stage in the Conrad Prebys Theatre\, 2787 State Street\, Carlsbad\, 92008\, United States
CATEGORIES:Theatre
ATTACH;FMTTYPE=image/png:https://newvillagearts.org/wp-content/uploads/2024/07/MarieCurie-show-title-clr.png
ORGANIZER;CN="New Village Arts":MAILTO:info@newvillagerts.org
END:VEVENT
BEGIN:VEVENT
DTSTART;TZID=America/Los_Angeles:20250129T183000
DTEND;TZID=America/Los_Angeles:20250129T200000
DTSTAMP:20260425T032520
CREATED:20250115T010050Z
LAST-MODIFIED:20260130T010633Z
UID:10004141-1738175400-1738180800@newvillagearts.org
SUMMARY:Drop-in Improv with Patrick McInnis
DESCRIPTION:
URL:https://newvillagearts.org/event/drop-in-improv-with-patrick-mcinnis/2025-01-29/
LOCATION:Sahm Foundation Arts Education Center\, 2787 State St\, Carlsbad\, CA\, 92008\, United States
CATEGORIES:Improv
ATTACH;FMTTYPE=image/png:https://newvillagearts.org/wp-content/uploads/2024/12/Wednesday-Improv-FP-1.png
ORGANIZER;CN="New Village Arts":MAILTO:info@newvillagerts.org
END:VEVENT
BEGIN:VEVENT
DTSTART;TZID=America/Los_Angeles:20250130T193000
DTEND;TZID=America/Los_Angeles:20250130T193000
DTSTAMP:20260425T032520
CREATED:20240703T210825Z
LAST-MODIFIED:20241220T224621Z
UID:10003865-1738265400-1738265400@newvillagearts.org
SUMMARY:The Half Life of Marie Curie
DESCRIPTION:
URL:https://newvillagearts.org/event/the-half-life-of-marie-curie/2025-01-30/
LOCATION:Ray Charles Stage in the Conrad Prebys Theatre\, 2787 State Street\, Carlsbad\, 92008\, United States
CATEGORIES:Theatre
ATTACH;FMTTYPE=image/png:https://newvillagearts.org/wp-content/uploads/2024/07/MarieCurie-show-title-clr.png
ORGANIZER;CN="New Village Arts":MAILTO:info@newvillagerts.org
END:VEVENT
BEGIN:VEVENT
DTSTART;TZID=America/Los_Angeles:20250130T200000
DTEND;TZID=America/Los_Angeles:20250130T200000
DTSTAMP:20260425T032520
CREATED:20250115T012911Z
LAST-MODIFIED:20250122T204316Z
UID:10004207-1738267200-1738267200@newvillagearts.org
SUMMARY:Kid Goblin: Groundhog Day Show
DESCRIPTION:
URL:https://newvillagearts.org/event/kid-goblin-2/
LOCATION:White Family Next Stage\, 2787 State Street\, Carlsbad\, CA\, 92008\, United States
CATEGORIES:Comedy,Improv
ATTACH;FMTTYPE=image/png:https://newvillagearts.org/wp-content/uploads/2025/01/Kid-Goblin-FP.png
ORGANIZER;CN="New Village Arts":MAILTO:info@newvillagerts.org
END:VEVENT
BEGIN:VEVENT
DTSTART;TZID=America/Los_Angeles:20250131T193000
DTEND;TZID=America/Los_Angeles:20250131T193000
DTSTAMP:20260425T032520
CREATED:20240703T210825Z
LAST-MODIFIED:20241220T224621Z
UID:10003866-1738351800-1738351800@newvillagearts.org
SUMMARY:The Half Life of Marie Curie
DESCRIPTION:
URL:https://newvillagearts.org/event/the-half-life-of-marie-curie/2025-01-31/
LOCATION:Ray Charles Stage in the Conrad Prebys Theatre\, 2787 State Street\, Carlsbad\, 92008\, United States
CATEGORIES:Theatre
ATTACH;FMTTYPE=image/png:https://newvillagearts.org/wp-content/uploads/2024/07/MarieCurie-show-title-clr.png
ORGANIZER;CN="New Village Arts":MAILTO:info@newvillagerts.org
END:VEVENT
BEGIN:VEVENT
DTSTART;TZID=America/Los_Angeles:20250201T090000
DTEND;TZID=America/Los_Angeles:20250201T110000
DTSTAMP:20260425T032520
CREATED:20250123T234420Z
LAST-MODIFIED:20250124T001343Z
UID:10004221-1738400400-1738407600@newvillagearts.org
SUMMARY:Level II Improv: The Game of the Scene
DESCRIPTION:
URL:https://newvillagearts.org/event/level-ii-improv/2025-02-01/
LOCATION:Sahm Foundation Arts Education Center\, 2787 State St\, Carlsbad\, CA\, 92008\, United States
CATEGORIES:Improv
ATTACH;FMTTYPE=image/png:https://newvillagearts.org/wp-content/uploads/2025/01/Improv-Fundamentals-Series-Patrick-2.png
ORGANIZER;CN="New Village Arts":MAILTO:info@newvillagerts.org
END:VEVENT
BEGIN:VEVENT
DTSTART;TZID=America/Los_Angeles:20250201T193000
DTEND;TZID=America/Los_Angeles:20250201T193000
DTSTAMP:20260425T032520
CREATED:20240703T210825Z
LAST-MODIFIED:20241220T224621Z
UID:10003867-1738438200-1738438200@newvillagearts.org
SUMMARY:The Half Life of Marie Curie
DESCRIPTION:
URL:https://newvillagearts.org/event/the-half-life-of-marie-curie/2025-02-01/
LOCATION:Ray Charles Stage in the Conrad Prebys Theatre\, 2787 State Street\, Carlsbad\, 92008\, United States
CATEGORIES:Theatre
ATTACH;FMTTYPE=image/png:https://newvillagearts.org/wp-content/uploads/2024/07/MarieCurie-show-title-clr.png
ORGANIZER;CN="New Village Arts":MAILTO:info@newvillagerts.org
END:VEVENT
BEGIN:VEVENT
DTSTART;TZID=America/Los_Angeles:20250202T140000
DTEND;TZID=America/Los_Angeles:20250202T140000
DTSTAMP:20260425T032520
CREATED:20240703T210825Z
LAST-MODIFIED:20241220T224621Z
UID:10003868-1738504800-1738504800@newvillagearts.org
SUMMARY:The Half Life of Marie Curie
DESCRIPTION:
URL:https://newvillagearts.org/event/the-half-life-of-marie-curie/2025-02-02/
LOCATION:Ray Charles Stage in the Conrad Prebys Theatre\, 2787 State Street\, Carlsbad\, 92008\, United States
CATEGORIES:Theatre
ATTACH;FMTTYPE=image/png:https://newvillagearts.org/wp-content/uploads/2024/07/MarieCurie-show-title-clr.png
ORGANIZER;CN="New Village Arts":MAILTO:info@newvillagerts.org
END:VEVENT
BEGIN:VEVENT
DTSTART;TZID=America/Los_Angeles:20250205T183000
DTEND;TZID=America/Los_Angeles:20250205T200000
DTSTAMP:20260425T032520
CREATED:20250115T010050Z
LAST-MODIFIED:20260130T010633Z
UID:10004142-1738780200-1738785600@newvillagearts.org
SUMMARY:Drop-in Improv with Patrick McInnis
DESCRIPTION:
URL:https://newvillagearts.org/event/drop-in-improv-with-patrick-mcinnis/2025-02-05/
LOCATION:Sahm Foundation Arts Education Center\, 2787 State St\, Carlsbad\, CA\, 92008\, United States
CATEGORIES:Improv
ATTACH;FMTTYPE=image/png:https://newvillagearts.org/wp-content/uploads/2024/12/Wednesday-Improv-FP-1.png
ORGANIZER;CN="New Village Arts":MAILTO:info@newvillagerts.org
END:VEVENT
BEGIN:VEVENT
DTSTART;TZID=America/Los_Angeles:20250205T200000
DTEND;TZID=America/Los_Angeles:20250205T200000
DTSTAMP:20260425T032520
CREATED:20250113T214956Z
LAST-MODIFIED:20250113T215033Z
UID:10004116-1738785600-1738785600@newvillagearts.org
SUMMARY:Voices of Poetry
DESCRIPTION:
URL:https://newvillagearts.org/event/voices-of-poetry-2/2025-02-05/
LOCATION:White Family Next Stage\, 2787 State Street\, Carlsbad\, CA\, 92008\, United States
ATTACH;FMTTYPE=image/png:https://newvillagearts.org/wp-content/uploads/2025/01/VOP-FP.png
ORGANIZER;CN="New Village Arts":MAILTO:info@newvillagerts.org
END:VEVENT
END:VCALENDAR