BEGIN:VCALENDAR
VERSION:2.0
PRODID:-//New Village Arts - ECPv6.15.20//NONSGML v1.0//EN
CALSCALE:GREGORIAN
METHOD:PUBLISH
X-WR-CALNAME:New Village Arts
X-ORIGINAL-URL:https://newvillagearts.org
X-WR-CALDESC:Events for New Village Arts
REFRESH-INTERVAL;VALUE=DURATION:PT1H
X-Robots-Tag:noindex
X-PUBLISHED-TTL:PT1H
BEGIN:VTIMEZONE
TZID:America/Los_Angeles
BEGIN:DAYLIGHT
TZOFFSETFROM:-0800
TZOFFSETTO:-0700
TZNAME:PDT
DTSTART:20250309T100000
END:DAYLIGHT
BEGIN:STANDARD
TZOFFSETFROM:-0700
TZOFFSETTO:-0800
TZNAME:PST
DTSTART:20251102T090000
END:STANDARD
BEGIN:DAYLIGHT
TZOFFSETFROM:-0800
TZOFFSETTO:-0700
TZNAME:PDT
DTSTART:20260308T100000
END:DAYLIGHT
BEGIN:STANDARD
TZOFFSETFROM:-0700
TZOFFSETTO:-0800
TZNAME:PST
DTSTART:20261101T090000
END:STANDARD
BEGIN:DAYLIGHT
TZOFFSETFROM:-0800
TZOFFSETTO:-0700
TZNAME:PDT
DTSTART:20270314T100000
END:DAYLIGHT
BEGIN:STANDARD
TZOFFSETFROM:-0700
TZOFFSETTO:-0800
TZNAME:PST
DTSTART:20271107T090000
END:STANDARD
END:VTIMEZONE
BEGIN:VEVENT
DTSTART;TZID=America/Los_Angeles:20260623T190000
DTEND;TZID=America/Los_Angeles:20260623T190000
DTSTAMP:20260421T104508
CREATED:20260316T205616Z
LAST-MODIFIED:20260331T225216Z
UID:10005523-1782241200-1782241200@newvillagearts.org
SUMMARY:Opera à La Carte
DESCRIPTION:
URL:https://newvillagearts.org/event/opera-la-carte-june/
LOCATION:White Family Next Stage\, 2787 State Street\, Carlsbad\, CA\, 92008\, United States
CATEGORIES:Cabaret,Music,Theatre
ATTACH;FMTTYPE=image/png:https://newvillagearts.org/wp-content/uploads/2025/05/Next-Stage-2025-Graphics.png
ORGANIZER;CN="New Village Arts":MAILTO:info@newvillagerts.org
END:VEVENT
END:VCALENDAR